BEGIN:VCALENDAR
VERSION:2.0
PRODID:-//Ciechocinek.pl - ECPv6.15.12.2//NONSGML v1.0//EN
CALSCALE:GREGORIAN
METHOD:PUBLISH
X-WR-CALNAME:Ciechocinek.pl
X-ORIGINAL-URL:https://ciechocinek.pl
X-WR-CALDESC:Wydarzenia dla Ciechocinek.pl
REFRESH-INTERVAL;VALUE=DURATION:PT1H
X-Robots-Tag:noindex
X-PUBLISHED-TTL:PT1H
BEGIN:VTIMEZONE
TZID:Europe/Warsaw
BEGIN:DAYLIGHT
TZOFFSETFROM:+0100
TZOFFSETTO:+0200
TZNAME:CEST
DTSTART:20240331T010000
END:DAYLIGHT
BEGIN:STANDARD
TZOFFSETFROM:+0200
TZOFFSETTO:+0100
TZNAME:CET
DTSTART:20241027T010000
END:STANDARD
BEGIN:DAYLIGHT
TZOFFSETFROM:+0100
TZOFFSETTO:+0200
TZNAME:CEST
DTSTART:20250330T010000
END:DAYLIGHT
BEGIN:STANDARD
TZOFFSETFROM:+0200
TZOFFSETTO:+0100
TZNAME:CET
DTSTART:20251026T010000
END:STANDARD
BEGIN:DAYLIGHT
TZOFFSETFROM:+0100
TZOFFSETTO:+0200
TZNAME:CEST
DTSTART:20260329T010000
END:DAYLIGHT
BEGIN:STANDARD
TZOFFSETFROM:+0200
TZOFFSETTO:+0100
TZNAME:CET
DTSTART:20261025T010000
END:STANDARD
END:VTIMEZONE
BEGIN:VEVENT
DTSTART;TZID=Europe/Warsaw:20251218T190000
DTEND;TZID=Europe/Warsaw:20251218T200000
DTSTAMP:20260424T174148
CREATED:20251205T141821Z
LAST-MODIFIED:20251205T141821Z
UID:2018-1766084400-1766088000@ciechocinek.pl
SUMMARY:Koncert Kolęd Góralskich w wykonaniu Międzypokoleniowego Chóru Ciechocinka
DESCRIPTION:Wieczór pełen czarujących kolęd góralskich i pastorałek. W repertuarze znajdą się utwory łączące tradycję z regionalnym klimatem — dźwięki\, które rozgrzeją serca widzów i wprowadzą ich w prawdziwie świąteczny nastrój. \nW czwartek\, 18 grudnia o godz. 19:00 w Teatrze Letnim wystąpi dla Państwa Międzypokoleniowy Chór Ciechocinka — zespół działający w MCK\, znany z integracyjnego ducha i łączenia pokoleń. Chór wielokrotnie uczestniczył w wydarzeniach lokalnych. \nMiędzypokoleniowy Chór Ciechocinka to grupa\, która gromadzi osoby z różnych grup wiekowych — młodzież\, dorosłych i seniorów — wspólnie dzielących pasję do śpiewu i lokalnej kultury\, a przede wszystki mieszkańców Ciechocinka i okolic. Dzięki temu chór stanowi prawdziwą wspólnotę\, w której doświadczenie spotyka świeżość\, a tradycja splata się ze współczesnością. \nZespół ma duże doświadczenie sceniczne — regularnie bierze udział w ważnych wydarzeniach kulturalnych organizowanych w regionie. Przykładem jest jego udział w festiwalach folkloru czy koncertach miejskich\, co pokazuje\, że potrafi dostarczyć publiczności wysoki poziom artystyczny. \nWejściówki i wstęp \nWstęp na koncert jest bezpłatny\, ale obowiązuje wcześniejsze pobranie wejściówki. Wejściówki dostępne będą: \n\nonline — na Biletyna.pl z opcjonalną opłatą serwisową\,\nlub stacjonarnie w kasie Kino Zdrój — wówczas bez opłaty.
URL:https://ciechocinek.pl/wydarzenie/koncert-koled-goralskich-w-wykonaniu-miedzypokoleniowego-choru-ciechocinka/
LOCATION:Teatr Letni\, Mikołaja Kopernika 3\, Ciechocinek\, 87-720
ATTACH;FMTTYPE=image/jpeg:https://ciechocinek.pl/wp-content/uploads/2025/12/koncertkoledgoralskich.jpg
END:VEVENT
BEGIN:VEVENT
DTSTART;TZID=Europe/Warsaw:20251218T163000
DTEND;TZID=Europe/Warsaw:20251218T180000
DTSTAMP:20260424T174148
CREATED:20251216T224532Z
LAST-MODIFIED:20251216T224532Z
UID:2223-1766075400-1766080800@ciechocinek.pl
SUMMARY:Eko Familiada i projekcja filmu
DESCRIPTION:Szykujcie się na rodzinną dawkę emocji i ekologicznych ciekawostekSzukamy DWÓCH rodzin do udziału w turnieju!Kogo zapraszamy do gry?Drużyny międzypokoleniowe (4–5 osób): dzieci\, młodzież\, rodzice\, dziadkowie – im bardziej różnorodnie\, tym lepiej!Zgłoszenia do turnieju: na Messengerze Stowarzyszenie „Szmaragdowy Paw” lub mailowo: szmaragdowypaw@gmail.comO co chodzi?W przystępny i zabawny sposób sprawdzimy Waszą wiedzę ekologiczną — bez stresu\, za to z uśmiechemPrzewidziane nagrody dla uczestników!A po turnieju… niespodzianka! Projekcja filmowa + popcornZapraszamy wszystkich – nawet jeśli nie gracie: przyjdźcie od 16:30 na kibicowanie i na film! \n  \nWydarzenie organizowane przez Stowarzyszenie Szmaragdowy Paw
URL:https://ciechocinek.pl/wydarzenie/eko-familiada-i-projekcja-filmu/
LOCATION:Jedyna\, Mickiewicza 14\, Ciechocinek
ATTACH;FMTTYPE=image/jpeg:https://ciechocinek.pl/wp-content/uploads/2025/12/ekofamiliada.jpg
END:VEVENT
BEGIN:VEVENT
DTSTART;TZID=Europe/Warsaw:20251217T110000
DTEND;TZID=Europe/Warsaw:20251217T110000
DTSTAMP:20260424T174148
CREATED:20251207T200035Z
LAST-MODIFIED:20251207T200035Z
UID:2085-1765969200-1765969200@ciechocinek.pl
SUMMARY:Spotkanie wigilijne dla osób samotnych i potrzebujących
DESCRIPTION:Ciechocińska hala sportowa OSiR Ciechocinek zamieni się w tętniące życiem świąteczne centrum radości. Wigilia Miejska to okazja do wspólnego spotkania z sąsiadami i celebracji pięknych polskich tradycji. \nPodczas wydarzenia nie zabraknie świątecznych smakołyków. Każdy uczestnik będzie mógł skosztować ciepłych\, aromatycznych dań\, które rozgrzeją i umilą ten wyjątkowy wieczór. \nNa wigilię zapraszają serdecznie: Burmistrz Ciechocinka Jarosław Jucewicz\, Dyrektor Miejskiego Ośrodka Pomocy Społecznej i Rycerze Kolumba Rada 16014 w Ciechocinku.
URL:https://ciechocinek.pl/wydarzenie/spotkanie-wigilijne-dla-osob-samotnych-i-potrzebujacych/
LOCATION:Hala sportowa OSiR\, Lipnowska 11c\, Ciechocinek
ATTACH;FMTTYPE=image/jpeg:https://ciechocinek.pl/wp-content/uploads/2025/12/wigilia.jpg
END:VEVENT
BEGIN:VEVENT
DTSTART;TZID=Europe/Warsaw:20251214T160000
DTEND;TZID=Europe/Warsaw:20251214T180000
DTSTAMP:20260424T174148
CREATED:20251205T101616Z
LAST-MODIFIED:20251205T143318Z
UID:1979-1765728000-1765735200@ciechocinek.pl
SUMMARY:Czwarty Spacer fotograficzny po Ciechocinku
DESCRIPTION:Ciechocinek po zmroku – ruszamy na zimowy fotospacer! \nMiasto po zachodzie słońca nabiera zupełnie innego klimatu: ciche uliczki\, połyskujące lampy\, świąteczne ozdoby…\nZabieramy aparaty i łapiemy wszystko\, co tworzy tę niepowtarzalną\, wieczorną atmosferę. \nSpotykamy się\, by szukać magii światła po zmroku!\nZimowy chłód\, para w powietrzu\, migotanie latarni\, świąteczny klimat\, odbicia w mokrych chodnikach – Ciechocinek potrafi zaskoczyć.\nTo idealny moment\, żeby poćwiczyć fotografię nocną\, pobawić się światłem i złapać urok miasta w zimowej odsłonie.\nZabierz aparat\, telefon\, statyw – i ruszaj z nami! Serdecznie zapraszamy! \nTermin – 14.12.2025 r. (niedziela)\, godz. 16:00. \nSpotkanie przed KINEM ZDRÓJ.
URL:https://ciechocinek.pl/wydarzenie/czwarty-spacer-fotograficzny-po-ciechocinku/
LOCATION:Ciechocinek\, Ciechocinek
ATTACH;FMTTYPE=image/jpeg:https://ciechocinek.pl/wp-content/uploads/2025/12/Foto-Spacer.jpg
END:VEVENT
BEGIN:VEVENT
DTSTART;TZID=Europe/Warsaw:20251214T110000
DTEND;TZID=Europe/Warsaw:20251214T140000
DTSTAMP:20260424T174148
CREATED:20251201T081406Z
LAST-MODIFIED:20251205T092149Z
UID:1503-1765710000-1765720800@ciechocinek.pl
SUMMARY:Gra terenowa "Magia Soli i Świąt"
DESCRIPTION:Magia Soli i Świąt – Gra Terenowa w Ciechocinku! \nStowarzyszenie Nasza Ostoja oraz Miejskie Centrum Kultury im. Janusza Majewskiego w Ciechocinku serdecznie zapraszają wszystkich odkrywców i miłośników zimowej zabawy do udziału w wyjątkowej grze terenowej po Solnym Mieście! \nData: 14 grudnia 2025Godzina: 11:00Miejsce zbiórki: Miejskie Centrum Kultury – hol „Kino Zdrój” \nZbierz drużynę i wyruszcie na świąteczną przygodę pełną zagadek\, zadań i solnych sekretów Ciechocinka! \nZgłoszenia przyjmowane są w grupach od 3 do 6 osóbTelefon do zapisów: 663 022 409Termin zgłoszeń: do 6 grudnia! \nDla wszystkich uczestników przewidziane są nagrody! \nNie przegapcie tej wyjątkowej okazji\, by poczuć magię świąt i odkryć Solne Miasto zupełnie na nowo!
URL:https://ciechocinek.pl/wydarzenie/gra-terenowa-magia-soli-i-swiat/
LOCATION:Ciechocinek\, Ciechocinek
ATTACH;FMTTYPE=image/jpeg:https://ciechocinek.pl/wp-content/uploads/2025/12/gra-terenowa.jpg
END:VEVENT
BEGIN:VEVENT
DTSTART;TZID=Europe/Warsaw:20251214T103000
DTEND;TZID=Europe/Warsaw:20251214T123000
DTSTAMP:20260424T174148
CREATED:20251205T101101Z
LAST-MODIFIED:20251205T101321Z
UID:1974-1765708200-1765715400@ciechocinek.pl
SUMMARY:REAKTYWACJA  POŁĄCZEŃ  KOLEJOWYCH
DESCRIPTION:Po 14 latach przerwy nastąpi reaktywacja połączeń pasażerskich do Ciechocinka. Tego dnia\, wraz z nowym rozkładem jazdy\, na tory wyjadą pierwsze pociągi do Aleksandrowa Kujawskiego i Torunia\, symbolicznie otwierając nowy rozdział w historii komunikacji miasta. \n 
URL:https://ciechocinek.pl/wydarzenie/reaktywacja-polaczen-kolejowych/
ATTACH;FMTTYPE=image/jpeg:https://ciechocinek.pl/wp-content/uploads/2025/12/Kolej.jpg
END:VEVENT
BEGIN:VEVENT
DTSTART;TZID=Europe/Warsaw:20251213T130000
DTEND;TZID=Europe/Warsaw:20251213T130000
DTSTAMP:20260424T174148
CREATED:20251211T124632Z
LAST-MODIFIED:20251211T124632Z
UID:2134-1765630800-1765630800@ciechocinek.pl
SUMMARY:Warsztaty rękodzielnicze: malowanie na drewnie
DESCRIPTION:BLIŻEJ KUJAW – kolejne (tym razem świąteczne!) warsztaty rękodzielnicze!\n\n\n\nW ramach tegorocznego Powiatowego Jarmarku Bożonarodzeniowego w Ciechocinku odbędą się wyjątkowe\, rodzinne spotkanie twórcze warsztaty malowania na drewnie!\n\n\n\nZajęcia są bezpłatne i przeznaczone dla: dziecko + rodzic.\n\n13 grudnia\nGodzina: 13:00\nKAWIARNIA ZDROJOWA w Ciechocinku\nZapisy przyjmujemy mailowo: zapisy@mck.ciechocinek.pl\nLiczba miejsc ograniczona – dlatego warto zgłosić się wcześniej!\n\n\n\nW tym miejscu kierujemy serdeczne podziękowania dla Kawiarnii Zdrojowej oraz Uzdrowisko Ciechocinek S.A. za udostępnienie przestrzeni\, dzięki której możemy stworzyć twórczą\, ciepłą i świąteczną atmosferę zbliżających się warsztatów.\n\n\nPrzypomnijmy\, że wszystkie warsztaty z cyklu BLIŻEJ KUJAW są bezpłatne i realizowane w ramach promocji dziedzictwa naszego regionu wszystko to dzięki dofinansowaniu Gminy Miejskiej Ciechocinek i najlepszej pod słońcem współpracy z Miejskim Centrum Kultury im. Janusza Majewskiego w Ciechocinku\n\n\nLOT SKARBY KUJAW
URL:https://ciechocinek.pl/wydarzenie/warsztaty-rekodzielnicze-malowanie-na-drewnie/
LOCATION:Kawiarnia Zdrojowa
ATTACH;FMTTYPE=image/png:https://ciechocinek.pl/wp-content/uploads/2025/12/plakat_warsztaty.png
END:VEVENT
BEGIN:VEVENT
DTSTART;TZID=Europe/Warsaw:20251213T100000
DTEND;TZID=Europe/Warsaw:20251214T160000
DTSTAMP:20260424T174148
CREATED:20251210T070850Z
LAST-MODIFIED:20251210T070851Z
UID:1498-1765620000-1765728000@ciechocinek.pl
SUMMARY:Powiatowy Jarmark Bożonarodzeniowy
DESCRIPTION:Zapraszamy na wyjątkowy\, świąteczny klimat w parku Zdrojowym już 13–14 grudnia 2025 r.! \nCzekają na Was: \n\n\nlokalne stowarzyszenia i Koła Gospodyń Wiejskich \n\n\nstoiska z ozdobami i rękodziełem \n\n\nprzepyszne świąteczne potrawy\, wypieki i swojskie wyroby \n\n\nsery\, naturalne miody i rozgrzewające napoje \n\n\nbiżuteria\, ceramika i wiele innych wyjątkowych produktów \n\n\nA także: \n\n\nwystępy artystyczne \n\n\nwspólne kolędowanie \n\n\nrodzinne warsztaty animacyjne \n\n\nświąteczna gra terenowa \n\n\nPonad 50 wystawców z całej Polski! \nTo idealna okazja\, by poczuć magię świąt\, spotkać się z bliskimi i znaleźć niepowtarzalne prezenty. \nDo zobaczenia na jarmarku!
URL:https://ciechocinek.pl/wydarzenie/powiatowy-jarmark-bozonarodzeniowy/
LOCATION:Park Zdrojowy\, Ciechocinek
ATTACH;FMTTYPE=image/png:https://ciechocinek.pl/wp-content/uploads/2025/12/Plakat-Jarmark-B.-25-1.png
END:VEVENT
BEGIN:VEVENT
DTSTART;TZID=Europe/Warsaw:20251213T100000
DTEND;TZID=Europe/Warsaw:20251213T100000
DTSTAMP:20260424T174148
CREATED:20251210T070822Z
LAST-MODIFIED:20251210T070822Z
UID:2121-1765620000-1765620000@ciechocinek.pl
SUMMARY:XIV Halowy Zakładowy Turniej Piłki Nożnej „OSiR CUP 2025”
DESCRIPTION:XIV edycja Halowego Zakładowego Turnieju Piłki Nożnej „OSiR Cup 2025”.\nZgłoszeń należy dokonywać na druku zgłoszenia do dnia 11 grudnia wyłącznie na e-mail manager.osir@ciechocinek.pl. \nO kwalifikacji do turnieju decyduje kolejność zgłoszeń.\nUwaga! Ilość miejsc ograniczona.\nZapraszamy do udziału! \nDo pobrania:\nREGULAMIN TURNIEJU\n​​​KARTA ZGŁOSZENIOWA \nSpis drużyn
URL:https://ciechocinek.pl/wydarzenie/xiv-halowy-zakladowy-turniej-pilki-noznej-osir-cup-2025/
LOCATION:Hala sportowa OSiR\, Lipnowska 11c\, Ciechocinek
ATTACH;FMTTYPE=image/jpeg:https://ciechocinek.pl/wp-content/uploads/2025/12/osircup2025.jpg
END:VEVENT
BEGIN:VEVENT
DTSTART;TZID=Europe/Warsaw:20251212T180000
DTEND;TZID=Europe/Warsaw:20251212T180000
DTSTAMP:20260424T174148
CREATED:20251208T132343Z
LAST-MODIFIED:20251210T070633Z
UID:2098-1765562400-1765562400@ciechocinek.pl
SUMMARY:Spektakl charytatywny "Świąteczna manufaktura"
DESCRIPTION:Przedstawienie „Świąteczna Manufaktura” – pełne świątecznej magii\, uśmiechu i dobra!\n\n\nTo nie tylko okazja\, by poczuć klimat nadchodzących świąt\, ale przede wszystkim szansa\, by pomóc małej Oli Ślęzak.\n\n\nCały dochód ze sprzedaży biletów zostanie przeznaczony na jej leczenie.\n\n\nBilet: 20 zł\n\n\nPatronat Honorowy: Burmistrz Ciechocinka Jarosław Jucewicz\n\n\nPrzyjdź\, zabierz bliskich i razem stwórzmy trochę świątecznych cudów.\nNie możesz być w tym dniu z nami\, zachęć rodzinę\, przyjaciół\, znajomych!
URL:https://ciechocinek.pl/wydarzenie/spektakl-charytatywny-swiateczna-manufaktura/
LOCATION:Teatr Letni\, Mikołaja Kopernika 3\, Ciechocinek\, 87-720
ATTACH;FMTTYPE=image/jpeg:https://ciechocinek.pl/wp-content/uploads/2025/12/Swiateczna-Manufaktura-2.jpg
END:VEVENT
BEGIN:VEVENT
DTSTART;TZID=Europe/Warsaw:20251212T160000
DTEND;TZID=Europe/Warsaw:20251212T190000
DTSTAMP:20260424T174148
CREATED:20251207T195552Z
LAST-MODIFIED:20251207T195552Z
UID:2082-1765555200-1765566000@ciechocinek.pl
SUMMARY:Fantastyczny piątek w bibliotece
DESCRIPTION:Chcesz pogadać o nowych odcinkach\, ostatnio przeczytanych mangach\, poznać ludzi z podobnym zajawkami albo po prostu miło spędzić czas? Wbijaj! \n12 grudnia (piątek) o 16:00 rusza kolejne spotkanie klubu Miejskiej Biblioteki Publicznej\, tym razem sekcja mangi i anime
URL:https://ciechocinek.pl/wydarzenie/fantastyczny-piatek-w-bibliotece/
LOCATION:Miejska Biblioteka Publiczna im. Janusza Żernickiego
ATTACH;FMTTYPE=image/jpeg:https://ciechocinek.pl/wp-content/uploads/2025/12/plakat_anime.jpg
END:VEVENT
BEGIN:VEVENT
DTSTART;TZID=Europe/Warsaw:20251209T190000
DTEND;TZID=Europe/Warsaw:20251209T200000
DTSTAMP:20260424T174148
CREATED:20251201T081021Z
LAST-MODIFIED:20251205T092554Z
UID:1496-1765306800-1765310400@ciechocinek.pl
SUMMARY:Koncert Mikołajkowy Daniela Dobraszkiewicza
DESCRIPTION:Są artyści\, dla których scena jest drugim domem… Wychodzą\, biorą oddech\, patrzą w publiczność – i od pierwszego dźwięku wiadomo\, że to jest ich przestrzeń. Jednym z nich jest Daniel Dobraszkiewicz. \nWokalista o mocnym\, charakterystycznym głosie\, którego utwory – pełne emocji\, ciepła i pozytywnych melodii – zdobywają serca odbiorców w całej Polsce. Artysta\, który dojrzewał muzycznie latami\, a dziś świadomie buduje własny styl i brzmienie. Na swoim koncie ma m.in. album „Marzenia” oraz popularne single\, w tym „Żyjemy tylko jeden raz”\, które przyciągnęły uwagę szerszej publiczności. \nJuż 9 grudnia 2025 o godz. 19:00 Daniel pojawi się na scenie w Miejskie Centrum Kultury im. Janusza Majewskiego w Ciechocinku – z koncertem autorskim\, podczas którego usłyszymy jego najbardziej znane piosenki oraz kilka muzycznych niespodzianek. \nBilety:Online: https://biletyna.pl/…/Daniel-Dobraszkiewicz…/CiechocinekStacjonarnie: kasa Kino Zdrój Ciechocinek
URL:https://ciechocinek.pl/wydarzenie/koncert-mikolajkowy-daniela-dobraszkiewicza/
LOCATION:Miejskie Centrum Kultury im. Janusza Majewskiego\, Żelazna 5\, Ciechocinek
ATTACH;FMTTYPE=image/png:https://ciechocinek.pl/wp-content/uploads/2025/12/Daniel-Dobraszkiewicz-Plakat.png
END:VEVENT
BEGIN:VEVENT
DTSTART;TZID=Europe/Warsaw:20251209T170000
DTEND;TZID=Europe/Warsaw:20251209T170000
DTSTAMP:20260424T174148
CREATED:20251207T205453Z
LAST-MODIFIED:20251207T205609Z
UID:2088-1765299600-1765299600@ciechocinek.pl
SUMMARY:Wernisaż fotogramów "Barwy światła\, barwy ciszy Katedry Notre Dame w Paryżu"
DESCRIPTION:Wernisaż wystawy fotogramów Wandy Małkowskiej zatytułowanej „Barwy światła\, barwy ciszy Katedry Notre Dame w Paryżu” odbędzie się we wtorek 9 grudnia 2025 r. w „Galerii Pod Dachem Nieba” w Ciechocinku\, która mieści się w 22. Wojskowym Szpitalu Uzdrowiskowo-Rehabilitacyjnym (trzecie piętro) przy ul. Wojska Polskiego 5.\n\n\n\nPodczas wernisażu autorka wygłosi prelekcję pod tytułem „Wpływ budowy katedr gotyckich na zmiany cywilizacyjne Europy”.\n\n\nW części artystycznej wystąpią : Edyta Hermanowska – śpiew\, Wanda Wasicka – słowo\, w tym poetyckie\, Krzysztof Ochociński – fortepian.\n\n\n\nOrganizatorzy: Towarzystwo Przyjaciół Ciechocinka\, 22 Wojskowy Szpital Uzdrowiskowo-Rehabilitacyjny w Ciechocinku. Początek wydarzenia o godz. 17.00. Wstęp wolny. (ww)
URL:https://ciechocinek.pl/wydarzenie/wernisaz-fotogramow-barwy-swiatla-barwy-ciszy-katedry-notre-dame-w-paryzu/
LOCATION:Galeria „Pod dachem nieba”\, Wojska Polskiego\, Ciechocinek
ATTACH;FMTTYPE=image/jpeg:https://ciechocinek.pl/wp-content/uploads/2025/12/galeria_budowakatedry.jpg
END:VEVENT
BEGIN:VEVENT
DTSTART;TZID=Europe/Warsaw:20251206T163000
DTEND;TZID=Europe/Warsaw:20251206T173000
DTSTAMP:20260424T174148
CREATED:20250929T155052Z
LAST-MODIFIED:20251202T135348Z
UID:601-1765038600-1765042200@ciechocinek.pl
SUMMARY:Uroczyste włączenie Iluminacji Świątecznych na Miejskiej Choince
DESCRIPTION:Z każdym grudniowym dniem w Ciechocinku robi się trochę bardziej świątecznie. Światła w mieście świecą jakby jaśniej\, dzieci coraz częściej pytają o Mikołaja\, a na Skwerze Ekscentryków czuć ten wyjątkowy nastrój\, który pojawia się tylko raz w roku.I właśnie dlatego 6 grudnia o 16:30 spotkamy się tam wszyscy\, żeby wspólnie włączyć iluminację Miejskiej Choinki.To jeden z tych momentów\, kiedy naprawdę czuć\, że zaczyna się świąteczny czas – spokojniejszy\, cieplejszy\, bliżej ludzi.Będzie z nami Święty Mikołaj i jego pomocnice \, będzie działała poczta do Mikołaja\, więc jeśli ktoś ma list – warto go przynieść.Przygotujemy też słodki poczęstunek dla najmłodszych\, bo święta najlepiej smakują wtedy\, gdy dzielimy się nimi razem.Zapraszamy całe rodziny\, dzieci\, młodzież\, seniorów – wszystkich\, którzy chcą na chwilę zatrzymać się w codziennym pędzie i poczuć odrobinę świątecznej magii.Do zobaczenia pod choinką.
URL:https://ciechocinek.pl/wydarzenie/uroczyste-wlaczenie-iluminacji-swiatecznych-na-miejskiej-choince/
LOCATION:Skwer Excentryków\, Ciechocinek
ATTACH;FMTTYPE=image/jpeg:https://ciechocinek.pl/wp-content/uploads/2025/09/Iluminacje-2025.jpg
END:VEVENT
BEGIN:VEVENT
DTSTART;TZID=Europe/Warsaw:20251205T170000
DTEND;TZID=Europe/Warsaw:20251205T180000
DTSTAMP:20260424T174148
CREATED:20251201T081324Z
LAST-MODIFIED:20251205T102229Z
UID:1501-1764954000-1764957600@ciechocinek.pl
SUMMARY:Wernisaż wystawy Haft Kujawski
DESCRIPTION:Przyjdź odkryć piękno tradycyjnego haftu kujawskiego – pełnego elegancji\, regionalnych motywów i niezwykłej precyzji. To spotkanie z pasją\, kulturą i rękodziełem\, które od pokoleń zachwyca swoją dekoracyjnością. \n5 grudnia 2025 (piątek)Godzina 17:00Salonik Wystaw w Miejskim Centrum Kultury\nAutorka: Grażyna Komosińska-Maksymowicz \nWstęp wolny \nZapraszamy serdecznie!
URL:https://ciechocinek.pl/wydarzenie/wernisaz-wystawy-haft-kujawski/
LOCATION:Miejskie Centrum Kultury im. Janusza Majewskiego\, Żelazna 5\, Ciechocinek
ATTACH;FMTTYPE=image/jpeg:https://ciechocinek.pl/wp-content/uploads/2025/12/haft-kujawski-wernisaz.jpg
END:VEVENT
BEGIN:VEVENT
DTSTART;TZID=Europe/Warsaw:20251201T190000
DTEND;TZID=Europe/Warsaw:20251201T190000
DTSTAMP:20260424T174148
CREATED:20251119T154511Z
LAST-MODIFIED:20251119T154511Z
UID:1478-1764615600-1764615600@ciechocinek.pl
SUMMARY:Koncert Don Vasyl & Cygańskie Gwiazdy
DESCRIPTION:
URL:https://ciechocinek.pl/wydarzenie/koncert-don-vasyl-cyganskie-gwiazdy-3/
LOCATION:Teatr Letni\, Mikołaja Kopernika 3\, Ciechocinek\, 87-720
ATTACH;FMTTYPE=image/jpeg:https://ciechocinek.pl/wp-content/uploads/2025/11/vasylgru.jpg
END:VEVENT
BEGIN:VEVENT
DTSTART;TZID=Europe/Warsaw:20251201T150000
DTEND;TZID=Europe/Warsaw:20251201T160000
DTSTAMP:20260424T174148
CREATED:20251119T154545Z
LAST-MODIFIED:20251119T154545Z
UID:1479-1764601200-1764604800@ciechocinek.pl
SUMMARY:Gala operetkowo-musicalowa poświęcona pamięci Bogusława Kaczyńskiego
DESCRIPTION:
URL:https://ciechocinek.pl/wydarzenie/gala-operetkowo-musicalowa-poswiecona-pamieci-boguslawa-kaczynskiego-3/
LOCATION:Teatr Letni\, Mikołaja Kopernika 3\, Ciechocinek\, 87-720
ATTACH;FMTTYPE=image/jpeg:https://ciechocinek.pl/wp-content/uploads/2025/11/bogkaczgru.jpg
END:VEVENT
BEGIN:VEVENT
DTSTART;TZID=Europe/Warsaw:20251129T190000
DTEND;TZID=Europe/Warsaw:20251129T190000
DTSTAMP:20260424T174148
CREATED:20250929T155500Z
LAST-MODIFIED:20250929T155500Z
UID:604-1764442800-1764442800@ciechocinek.pl
SUMMARY:Piotr Bałtroczyk Stand Up 2025
DESCRIPTION:
URL:https://ciechocinek.pl/wydarzenie/piotr-baltroczyk-stand-up-2025/
LOCATION:Sala widowiskowo-kinowa\, Żelazna 5\, Ciechocinek
ATTACH;FMTTYPE=image/jpeg:https://ciechocinek.pl/wp-content/uploads/2025/09/baltroczyk.jpg
END:VEVENT
BEGIN:VEVENT
DTSTART;TZID=Europe/Warsaw:20251127T160000
DTEND;TZID=Europe/Warsaw:20251127T180000
DTSTAMP:20260424T174148
CREATED:20251120T120823Z
LAST-MODIFIED:20251120T120823Z
UID:1493-1764259200-1764266400@ciechocinek.pl
SUMMARY:Warsztaty rękodzielnicze - haft kujawski
DESCRIPTION:
URL:https://ciechocinek.pl/wydarzenie/warsztaty-rekodzielnicze-haft-kujawski/
LOCATION:Miejskie Centrum Kultury im. Janusza Majewskiego\, Żelazna 5\, Ciechocinek
ATTACH;FMTTYPE=image/jpeg:https://ciechocinek.pl/wp-content/uploads/2025/11/585297241_1415689987225907_7460999462643176394_n.jpg
END:VEVENT
BEGIN:VEVENT
DTSTART;TZID=Europe/Warsaw:20251125T160000
DTEND;TZID=Europe/Warsaw:20251125T170000
DTSTAMP:20260424T174148
CREATED:20251119T154437Z
LAST-MODIFIED:20251119T154437Z
UID:1474-1764086400-1764090000@ciechocinek.pl
SUMMARY:Gala MADE IN FUTURE
DESCRIPTION:
URL:https://ciechocinek.pl/wydarzenie/gala-made-in-future/
LOCATION:Sala widowiskowo-kinowa\, Żelazna 5\, Ciechocinek
ATTACH;FMTTYPE=image/jpeg:https://ciechocinek.pl/wp-content/uploads/2025/11/plakat-made-in-future.jpg
END:VEVENT
BEGIN:VEVENT
DTSTART;TZID=Europe/Warsaw:20251118T103000
DTEND;TZID=Europe/Warsaw:20251118T150000
DTSTAMP:20260424T174148
CREATED:20251029T105417Z
LAST-MODIFIED:20251029T105417Z
UID:1302-1763461800-1763478000@ciechocinek.pl
SUMMARY:Wojewódzka Konferencja Edukacyjna - Ekologia. Zdrowie. Bezpieczeństwo.
DESCRIPTION:
URL:https://ciechocinek.pl/wydarzenie/wojewodzka-konferencja-edukacyjna-ekologia-zdrowie-bezpieczenstwo/
LOCATION:Sala widowiskowo-kinowa\, Żelazna 5\, Ciechocinek
ATTACH;FMTTYPE=image/jpeg:https://ciechocinek.pl/wp-content/uploads/2025/10/ekologia-zdrowie-bezpieczenstwo-2.jpg
END:VEVENT
BEGIN:VEVENT
DTSTART;TZID=Europe/Warsaw:20251117T190000
DTEND;TZID=Europe/Warsaw:20251117T210000
DTSTAMP:20260424T174148
CREATED:20251018T203345Z
LAST-MODIFIED:20251205T100318Z
UID:1230-1763406000-1763413200@ciechocinek.pl
SUMMARY:Krzysztof Hanke “Śmiesznie już było” – stand-up (nie tylko) po śląsku
DESCRIPTION:Sprzedaż biletów: w kasie Kina Zdrój oraz online na Biletyna oraz KupBilecik
URL:https://ciechocinek.pl/wydarzenie/krzysztof-hanke-smiesznie-juz-bylo-stand-up-nie-tylko-po-slasku/
LOCATION:Teatr Letni\, Mikołaja Kopernika 3\, Ciechocinek\, 87-720
ATTACH;FMTTYPE=image/jpeg:https://ciechocinek.pl/wp-content/uploads/2025/10/Hanke-2025.jpg
END:VEVENT
BEGIN:VEVENT
DTSTART;TZID=Europe/Warsaw:20251113T140000
DTEND;TZID=Europe/Warsaw:20251113T170000
DTSTAMP:20260424T174148
CREATED:20251018T203052Z
LAST-MODIFIED:20251018T203058Z
UID:1228-1763042400-1763053200@ciechocinek.pl
SUMMARY:Gala "Odkrywamy talenty PoTężnie"
DESCRIPTION:Szczegóły na https://mck.ciechocinek.pl/odkrywamy-talenty-poteznie/ oraz https://nasza-ostoja.pl/2025/09/25/odkrywamy-talenty-poteznie-ruszaja-zapisy-do-iii-edycji-konkursu/
URL:https://ciechocinek.pl/wydarzenie/gala-odkrywamy-talenty-poteznie/
LOCATION:Sala widowiskowo-kinowa\, Żelazna 5\, Ciechocinek
ATTACH;FMTTYPE=image/jpeg:https://ciechocinek.pl/wp-content/uploads/2025/10/odkrywamy-talenty.jpg
END:VEVENT
BEGIN:VEVENT
DTSTART;TZID=Europe/Warsaw:20251111T100000
DTEND;TZID=Europe/Warsaw:20251111T120000
DTSTAMP:20260424T174148
CREATED:20251029T105310Z
LAST-MODIFIED:20251029T105310Z
UID:1300-1762855200-1762862400@ciechocinek.pl
SUMMARY:Miejskie Obchody 107. rocznicy odzyskania Niepodległości przez Polskę
DESCRIPTION:Miejskie Obchody 107. Rocznicy Odzyskania Niepodległości przez Polskę11 listopada 2025Burmistrz Ciechocinka Jarosław Jucewicz\, Rada Miejska oraz Miejskie Centrum Kultury im. Janusza Majewskiego w Ciechocinku serdecznie zaprasza mieszkańców oraz gości do wspólnego uczczenia Narodowego Święta Niepodległości!Uroczystości rozpoczną się mszą świętą w intencji ojczyzny o godzinie 10:00 w Kolegiacie Świętych Apostołów Piotra i Pawła.Następnie o godz. 11:00 nastąpi uroczyste złożenie kwiatów pod pomnikiem Romualda Traugutta.Jeśli ktoś z Państwa chciałby złożyć wiązankę podczas uroczystości – prosimy o kontakt mailowy: warsztaty@ciechocinek.pl
URL:https://ciechocinek.pl/wydarzenie/miejskie-obchody-107-rocznicy-odzyskania-niepodleglosci-przez-polske/
LOCATION:Ciechocinek\, Ciechocinek
ATTACH;FMTTYPE=image/jpeg:https://ciechocinek.pl/wp-content/uploads/2025/10/11.11.jpg
END:VEVENT
BEGIN:VEVENT
DTSTART;TZID=Europe/Warsaw:20251109T190000
DTEND;TZID=Europe/Warsaw:20251109T210000
DTSTAMP:20260424T174148
CREATED:20251029T105132Z
LAST-MODIFIED:20251029T105146Z
UID:1298-1762714800-1762722000@ciechocinek.pl
SUMMARY:Program słowno-muzyczny “Pamięć przeszłości siłą narodu!”
DESCRIPTION:
URL:https://ciechocinek.pl/wydarzenie/program-slowno-muzyczny-pamiec-przeszlosci-sila-narodu/
LOCATION:Teatr Letni\, Mikołaja Kopernika 3\, Ciechocinek\, 87-720
ATTACH;FMTTYPE=image/jpeg:https://ciechocinek.pl/wp-content/uploads/2025/10/PLAKAT-9.LISTOPADA-scaled-1.jpg
END:VEVENT
BEGIN:VEVENT
DTSTART;VALUE=DATE:20251108
DTEND;VALUE=DATE:20251112
DTSTAMP:20260424T174148
CREATED:20251029T105053Z
LAST-MODIFIED:20251029T105053Z
UID:1296-1762560000-1762905599@ciechocinek.pl
SUMMARY:Gęsina na św. Marcina
DESCRIPTION:
URL:https://ciechocinek.pl/wydarzenie/gesina-na-sw-marcina/
LOCATION:Muszla Koncertowa im. Kazimierza Kowalskiego\, Ciechocinek\, kujawsko-pomorskie\, 87-720\, Poland
ATTACH;FMTTYPE=image/jpeg:https://ciechocinek.pl/wp-content/uploads/2025/10/gesina-na-sw-Marcina.jpg
END:VEVENT
BEGIN:VEVENT
DTSTART;TZID=Europe/Warsaw:20251107T190000
DTEND;TZID=Europe/Warsaw:20251107T220000
DTSTAMP:20260424T174148
CREATED:20251015T095929Z
LAST-MODIFIED:20251015T095929Z
UID:1049-1762542000-1762552800@ciechocinek.pl
SUMMARY:VI Nocny Bieg Jasia i Małgosi
DESCRIPTION:Szczegóły
URL:https://ciechocinek.pl/wydarzenie/vi-nocny-bieg-jasia-i-malgosi/
LOCATION:Muszla Koncertowa im. Kazimierza Kowalskiego\, Ciechocinek\, kujawsko-pomorskie\, 87-720\, Poland
ATTACH;FMTTYPE=image/jpeg:https://ciechocinek.pl/wp-content/uploads/2025/10/bieg.jpg
ORGANIZER;CN="O%C5%9Brodek Sportu i Rekreacji":MAILTO:osir@ciechocinek.pl
END:VEVENT
BEGIN:VEVENT
DTSTART;TZID=Europe/Warsaw:20251107T190000
DTEND;TZID=Europe/Warsaw:20251107T210000
DTSTAMP:20260424T174148
CREATED:20251021T182612Z
LAST-MODIFIED:20251021T182817Z
UID:1255-1762542000-1762549200@ciechocinek.pl
SUMMARY:Kabaret “Złota Maska” – Cicha woda i inne temperamenty!
DESCRIPTION:
URL:https://ciechocinek.pl/wydarzenie/kabaret-zlota-maska-cicha-woda-i-inne-temperamenty/
LOCATION:Teatr Letni\, Mikołaja Kopernika 3\, Ciechocinek\, 87-720
ATTACH;FMTTYPE=image/jpeg:https://ciechocinek.pl/wp-content/uploads/2025/10/zlota-maska.jpg
END:VEVENT
BEGIN:VEVENT
DTSTART;TZID=Europe/Warsaw:20251106T163000
DTEND;TZID=Europe/Warsaw:20251106T190000
DTSTAMP:20260424T174148
CREATED:20251021T175648Z
LAST-MODIFIED:20251021T175648Z
UID:1248-1762446600-1762455600@ciechocinek.pl
SUMMARY:Otwarte uroczyste zebranie członków i sympatyków Towarzystwa Przyjaciół Ciechocinka
DESCRIPTION:
URL:https://ciechocinek.pl/wydarzenie/otwarte-uroczyste-zebranie-czlonkow-i-sympatykow-towarzystwa-przyjaciol-ciechocinka/
LOCATION:Hotel Austeria\, Bema 32\, Ciechocinek\, kujawsko-pomorskie\, 87-720\, Poland
ATTACH;FMTTYPE=image/jpeg:https://ciechocinek.pl/wp-content/uploads/2025/10/Zebranie-plakat-scaled-1.jpg
END:VEVENT
BEGIN:VEVENT
DTSTART;VALUE=DATE:20251105
DTEND;VALUE=DATE:20251106
DTSTAMP:20260424T174148
CREATED:20251029T105012Z
LAST-MODIFIED:20251029T105012Z
UID:1294-1762300800-1762387199@ciechocinek.pl
SUMMARY:Gęsinowy foodtruck w Ciechocinku
DESCRIPTION:
URL:https://ciechocinek.pl/wydarzenie/gesinowy-foodtruck-w-ciechocinku/
LOCATION:Miejskie Centrum Kultury im. Janusza Majewskiego\, Żelazna 5\, Ciechocinek
ATTACH;FMTTYPE=image/jpeg:https://ciechocinek.pl/wp-content/uploads/2025/10/CIECHOCINEK-gesina.jpg
END:VEVENT
END:VCALENDAR