BEGIN:VCALENDAR
VERSION:2.0
PRODID:-//Ciechocinek.pl - ECPv6.15.12.2//NONSGML v1.0//EN
CALSCALE:GREGORIAN
METHOD:PUBLISH
X-WR-CALNAME:Ciechocinek.pl
X-ORIGINAL-URL:https://ciechocinek.pl
X-WR-CALDESC:Wydarzenia dla Ciechocinek.pl
REFRESH-INTERVAL;VALUE=DURATION:PT1H
X-Robots-Tag:noindex
X-PUBLISHED-TTL:PT1H
BEGIN:VTIMEZONE
TZID:Europe/Warsaw
BEGIN:DAYLIGHT
TZOFFSETFROM:+0100
TZOFFSETTO:+0200
TZNAME:CEST
DTSTART:20250330T010000
END:DAYLIGHT
BEGIN:STANDARD
TZOFFSETFROM:+0200
TZOFFSETTO:+0100
TZNAME:CET
DTSTART:20251026T010000
END:STANDARD
BEGIN:DAYLIGHT
TZOFFSETFROM:+0100
TZOFFSETTO:+0200
TZNAME:CEST
DTSTART:20260329T010000
END:DAYLIGHT
BEGIN:STANDARD
TZOFFSETFROM:+0200
TZOFFSETTO:+0100
TZNAME:CET
DTSTART:20261025T010000
END:STANDARD
BEGIN:DAYLIGHT
TZOFFSETFROM:+0100
TZOFFSETTO:+0200
TZNAME:CEST
DTSTART:20270328T010000
END:DAYLIGHT
BEGIN:STANDARD
TZOFFSETFROM:+0200
TZOFFSETTO:+0100
TZNAME:CET
DTSTART:20271031T010000
END:STANDARD
END:VTIMEZONE
BEGIN:VEVENT
DTSTART;TZID=Europe/Warsaw:20260502T190000
DTEND;TZID=Europe/Warsaw:20260502T210000
DTSTAMP:20260420T121728
CREATED:20260414T074704Z
LAST-MODIFIED:20260414T074706Z
UID:2993-1777748400-1777755600@ciechocinek.pl
SUMMARY:Babski Kabaret "Moherowe Berety"
DESCRIPTION:Kabaret Moherowe Berety – czyli jak w 120 minut umrzeć ze śmiechu. Cztery Panie w średnim wieku na co dzień grające w Teatrze Rozrywki w Chorzowie pod wpływem impulsu\, stworzyły doskonały kabaret. Obaw miały początkowo wiele\, ale okazało się\, że potrafią bawić publiczność w sposób niepowtarzalny. Wykorzystanie znanych szlagierów muzyki rozrywkowej\, w połączeniu z dialogami\, okraszonymi perfekcyjną mimiką i gestami dają widzom to\, co zwykło nazywać się dobrym kabaretem. Nie bawią się w politykę\, a śmieją się z ludzkich słabości\, przyzwyczajeń\, dziwactw. Doskonale wykorzystują swoje atuty\, niejednokrotnie nieźle je przerysowując\, a przy tym potrafią wyjątkowo przekonująco wcielić się w charakterystyczne postaci. Formacja która śmieszy i bawi do łez. Dobry tekst\, mimika i gra aktorska sprawiają\, że ponadgodzinne widowisko przykuwa uwagę widza. Na ich występach widzowie bawią się wyśmienicie śmiejąc się do rozpuku. Znakomita piosenka aktorska\, uzupełniona dialogami i monologami oraz nietypowe stroje rozbawią widza w każdym wieku.
URL:https://ciechocinek.pl/wydarzenie/babski-kabaret-moherowe-berety/
LOCATION:Teatr Letni\, Mikołaja Kopernika 3\, Ciechocinek\, 87-720
ATTACH;FMTTYPE=image/jpeg:https://ciechocinek.pl/wp-content/uploads/2026/04/Moherowe-berety-2-maja.jpg
END:VEVENT
END:VCALENDAR