BEGIN:VCALENDAR
VERSION:2.0
PRODID:-//Ciechocinek.pl - ECPv6.15.12.2//NONSGML v1.0//EN
CALSCALE:GREGORIAN
METHOD:PUBLISH
X-WR-CALNAME:Ciechocinek.pl
X-ORIGINAL-URL:https://ciechocinek.pl
X-WR-CALDESC:Wydarzenia dla Ciechocinek.pl
REFRESH-INTERVAL;VALUE=DURATION:PT1H
X-Robots-Tag:noindex
X-PUBLISHED-TTL:PT1H
BEGIN:VTIMEZONE
TZID:Europe/Warsaw
BEGIN:DAYLIGHT
TZOFFSETFROM:+0100
TZOFFSETTO:+0200
TZNAME:CEST
DTSTART:20240331T010000
END:DAYLIGHT
BEGIN:STANDARD
TZOFFSETFROM:+0200
TZOFFSETTO:+0100
TZNAME:CET
DTSTART:20241027T010000
END:STANDARD
BEGIN:DAYLIGHT
TZOFFSETFROM:+0100
TZOFFSETTO:+0200
TZNAME:CEST
DTSTART:20250330T010000
END:DAYLIGHT
BEGIN:STANDARD
TZOFFSETFROM:+0200
TZOFFSETTO:+0100
TZNAME:CET
DTSTART:20251026T010000
END:STANDARD
BEGIN:DAYLIGHT
TZOFFSETFROM:+0100
TZOFFSETTO:+0200
TZNAME:CEST
DTSTART:20260329T010000
END:DAYLIGHT
BEGIN:STANDARD
TZOFFSETFROM:+0200
TZOFFSETTO:+0100
TZNAME:CET
DTSTART:20261025T010000
END:STANDARD
END:VTIMEZONE
BEGIN:VEVENT
DTSTART;TZID=Europe/Warsaw:20251214T160000
DTEND;TZID=Europe/Warsaw:20251214T180000
DTSTAMP:20260422T124331
CREATED:20251205T101616Z
LAST-MODIFIED:20251205T143318Z
UID:1979-1765728000-1765735200@ciechocinek.pl
SUMMARY:Czwarty Spacer fotograficzny po Ciechocinku
DESCRIPTION:Ciechocinek po zmroku – ruszamy na zimowy fotospacer! \nMiasto po zachodzie słońca nabiera zupełnie innego klimatu: ciche uliczki\, połyskujące lampy\, świąteczne ozdoby…\nZabieramy aparaty i łapiemy wszystko\, co tworzy tę niepowtarzalną\, wieczorną atmosferę. \nSpotykamy się\, by szukać magii światła po zmroku!\nZimowy chłód\, para w powietrzu\, migotanie latarni\, świąteczny klimat\, odbicia w mokrych chodnikach – Ciechocinek potrafi zaskoczyć.\nTo idealny moment\, żeby poćwiczyć fotografię nocną\, pobawić się światłem i złapać urok miasta w zimowej odsłonie.\nZabierz aparat\, telefon\, statyw – i ruszaj z nami! Serdecznie zapraszamy! \nTermin – 14.12.2025 r. (niedziela)\, godz. 16:00. \nSpotkanie przed KINEM ZDRÓJ.
URL:https://ciechocinek.pl/wydarzenie/czwarty-spacer-fotograficzny-po-ciechocinku/
LOCATION:Ciechocinek\, Ciechocinek
ATTACH;FMTTYPE=image/jpeg:https://ciechocinek.pl/wp-content/uploads/2025/12/Foto-Spacer.jpg
END:VEVENT
END:VCALENDAR