BEGIN:VCALENDAR
VERSION:2.0
PRODID:-//Ciechocinek.pl - ECPv6.15.12.2//NONSGML v1.0//EN
CALSCALE:GREGORIAN
METHOD:PUBLISH
X-WR-CALNAME:Ciechocinek.pl
X-ORIGINAL-URL:https://ciechocinek.pl
X-WR-CALDESC:Wydarzenia dla Ciechocinek.pl
REFRESH-INTERVAL;VALUE=DURATION:PT1H
X-Robots-Tag:noindex
X-PUBLISHED-TTL:PT1H
BEGIN:VTIMEZONE
TZID:Europe/Warsaw
BEGIN:DAYLIGHT
TZOFFSETFROM:+0100
TZOFFSETTO:+0200
TZNAME:CEST
DTSTART:20240331T010000
END:DAYLIGHT
BEGIN:STANDARD
TZOFFSETFROM:+0200
TZOFFSETTO:+0100
TZNAME:CET
DTSTART:20241027T010000
END:STANDARD
BEGIN:DAYLIGHT
TZOFFSETFROM:+0100
TZOFFSETTO:+0200
TZNAME:CEST
DTSTART:20250330T010000
END:DAYLIGHT
BEGIN:STANDARD
TZOFFSETFROM:+0200
TZOFFSETTO:+0100
TZNAME:CET
DTSTART:20251026T010000
END:STANDARD
BEGIN:DAYLIGHT
TZOFFSETFROM:+0100
TZOFFSETTO:+0200
TZNAME:CEST
DTSTART:20260329T010000
END:DAYLIGHT
BEGIN:STANDARD
TZOFFSETFROM:+0200
TZOFFSETTO:+0100
TZNAME:CET
DTSTART:20261025T010000
END:STANDARD
END:VTIMEZONE
BEGIN:VEVENT
DTSTART;TZID=Europe/Warsaw:20251218T163000
DTEND;TZID=Europe/Warsaw:20251218T180000
DTSTAMP:20260424T110107
CREATED:20251216T224532Z
LAST-MODIFIED:20251216T224532Z
UID:2223-1766075400-1766080800@ciechocinek.pl
SUMMARY:Eko Familiada i projekcja filmu
DESCRIPTION:Szykujcie się na rodzinną dawkę emocji i ekologicznych ciekawostekSzukamy DWÓCH rodzin do udziału w turnieju!Kogo zapraszamy do gry?Drużyny międzypokoleniowe (4–5 osób): dzieci\, młodzież\, rodzice\, dziadkowie – im bardziej różnorodnie\, tym lepiej!Zgłoszenia do turnieju: na Messengerze Stowarzyszenie „Szmaragdowy Paw” lub mailowo: szmaragdowypaw@gmail.comO co chodzi?W przystępny i zabawny sposób sprawdzimy Waszą wiedzę ekologiczną — bez stresu\, za to z uśmiechemPrzewidziane nagrody dla uczestników!A po turnieju… niespodzianka! Projekcja filmowa + popcornZapraszamy wszystkich – nawet jeśli nie gracie: przyjdźcie od 16:30 na kibicowanie i na film! \n  \nWydarzenie organizowane przez Stowarzyszenie Szmaragdowy Paw
URL:https://ciechocinek.pl/wydarzenie/eko-familiada-i-projekcja-filmu/
LOCATION:Jedyna\, Mickiewicza 14\, Ciechocinek
ATTACH;FMTTYPE=image/jpeg:https://ciechocinek.pl/wp-content/uploads/2025/12/ekofamiliada.jpg
END:VEVENT
END:VCALENDAR