BEGIN:VCALENDAR
VERSION:2.0
PRODID:-//Ciechocinek.pl - ECPv6.15.12.2//NONSGML v1.0//EN
CALSCALE:GREGORIAN
METHOD:PUBLISH
X-WR-CALNAME:Ciechocinek.pl
X-ORIGINAL-URL:https://ciechocinek.pl
X-WR-CALDESC:Wydarzenia dla Ciechocinek.pl
REFRESH-INTERVAL;VALUE=DURATION:PT1H
X-Robots-Tag:noindex
X-PUBLISHED-TTL:PT1H
BEGIN:VTIMEZONE
TZID:Europe/Warsaw
BEGIN:DAYLIGHT
TZOFFSETFROM:+0100
TZOFFSETTO:+0200
TZNAME:CEST
DTSTART:20240331T010000
END:DAYLIGHT
BEGIN:STANDARD
TZOFFSETFROM:+0200
TZOFFSETTO:+0100
TZNAME:CET
DTSTART:20241027T010000
END:STANDARD
BEGIN:DAYLIGHT
TZOFFSETFROM:+0100
TZOFFSETTO:+0200
TZNAME:CEST
DTSTART:20250330T010000
END:DAYLIGHT
BEGIN:STANDARD
TZOFFSETFROM:+0200
TZOFFSETTO:+0100
TZNAME:CET
DTSTART:20251026T010000
END:STANDARD
BEGIN:DAYLIGHT
TZOFFSETFROM:+0100
TZOFFSETTO:+0200
TZNAME:CEST
DTSTART:20260329T010000
END:DAYLIGHT
BEGIN:STANDARD
TZOFFSETFROM:+0200
TZOFFSETTO:+0100
TZNAME:CET
DTSTART:20261025T010000
END:STANDARD
END:VTIMEZONE
BEGIN:VEVENT
DTSTART;TZID=Europe/Warsaw:20251220T150000
DTEND;TZID=Europe/Warsaw:20251220T150000
DTSTAMP:20260424T131716
CREATED:20251216T101028Z
LAST-MODIFIED:20251216T101044Z
UID:2204-1766242800-1766242800@ciechocinek.pl
SUMMARY:Koncert "Cztery Pory Roku" - "Maleńka Miłość"
DESCRIPTION:Wyjątkowy\, świąteczny koncert z cyklu „Cztery Pory Roku” – MALEŃKA MIŁOŚĆ!To niezwykłe muzyczne wydarzenie zorganizowane przez Miejskie Centrum Kultury odbędzie się 20 grudnia 2025 r. o godz. 15:00 w Kinie Zdrój.Koncert objęty jest honorowym patronatem Burmistrza Ciechocinka Jarosława Jucewicza.Przygotowanie artystyczne: Sławek MałeckiProwadzenie: Miron KarlewskiNa scenie wystąpi utalentowana młodzież i dzieci\, które swoim występem wprowadzą nas w magiczny\, świąteczny nastrój.Wystąpią:Ala Henc\, Ania Strzyżewska\, Maja Centkowska\, Nel Słupska\, Bruno Wituski\, Dorota Racka\, Tomek Sowa\, Rozalia Kłaczyńska\, Ola Ejsmont\, Krzysztof Klimiuk\, Lilia Golema\, Martyna Lewandowska\, Malwina Łuczak\, Martyna Domańska\, Oliwia Moźdżeń\, Julia Dąbrowska\, Weronika Bednarska\, Kalina Przybylska\, Julia Domańska\, Lena Sikorska\, Justyna Domańska\, Hubert Popławski\, Magda Delik\, Alicja Woźniak\, Karol Lajstet\, Marcel Matyjanowski \nNagłośnienie: Leszek Promiński\, Tymek MatuszakOświetlenie: Krzysztof Nejman\, Adam ZwolskiWejściówki dostępne w kasie Kina Zdrój!Nie przegapcie tego pełnego wzruszeń i ciepła wydarzenia – spotkajmy się razem\, by poczuć magię świąt!
URL:https://ciechocinek.pl/wydarzenie/koncert-cztery-pory-roku-malenka-milosc/
LOCATION:Kino Zdrój\, Żelazna 5\, Ciechocinek
ATTACH;FMTTYPE=image/jpeg:https://ciechocinek.pl/wp-content/uploads/2025/12/cztery-pory-roku-1.jpg
END:VEVENT
END:VCALENDAR