BEGIN:VCALENDAR
VERSION:2.0
PRODID:-//Ciechocinek.pl - ECPv6.15.12.2//NONSGML v1.0//EN
CALSCALE:GREGORIAN
METHOD:PUBLISH
X-WR-CALNAME:Ciechocinek.pl
X-ORIGINAL-URL:https://ciechocinek.pl
X-WR-CALDESC:Wydarzenia dla Ciechocinek.pl
REFRESH-INTERVAL;VALUE=DURATION:PT1H
X-Robots-Tag:noindex
X-PUBLISHED-TTL:PT1H
BEGIN:VTIMEZONE
TZID:Europe/Warsaw
BEGIN:DAYLIGHT
TZOFFSETFROM:+0100
TZOFFSETTO:+0200
TZNAME:CEST
DTSTART:20250330T010000
END:DAYLIGHT
BEGIN:STANDARD
TZOFFSETFROM:+0200
TZOFFSETTO:+0100
TZNAME:CET
DTSTART:20251026T010000
END:STANDARD
BEGIN:DAYLIGHT
TZOFFSETFROM:+0100
TZOFFSETTO:+0200
TZNAME:CEST
DTSTART:20260329T010000
END:DAYLIGHT
BEGIN:STANDARD
TZOFFSETFROM:+0200
TZOFFSETTO:+0100
TZNAME:CET
DTSTART:20261025T010000
END:STANDARD
BEGIN:DAYLIGHT
TZOFFSETFROM:+0100
TZOFFSETTO:+0200
TZNAME:CEST
DTSTART:20270328T010000
END:DAYLIGHT
BEGIN:STANDARD
TZOFFSETFROM:+0200
TZOFFSETTO:+0100
TZNAME:CET
DTSTART:20271031T010000
END:STANDARD
END:VTIMEZONE
BEGIN:VEVENT
DTSTART;TZID=Europe/Warsaw:20260418T190000
DTEND;TZID=Europe/Warsaw:20260418T190000
DTSTAMP:20260420T121935
CREATED:20260213T063145Z
LAST-MODIFIED:20260409T095318Z
UID:2541-1776538800-1776538800@ciechocinek.pl
SUMMARY:Koncert z cyklu "Cztery Pory Roku" - Wiosna
DESCRIPTION:Cykliczna seria wyjątkowych koncertów w wykonaniu młodzieży z Pracowni Wokalnej Pana Sławka Małeckiego\, działającej przy Miejskim Centrum Kultury. \nTym razem zapraszamy na koncert wiosenny pt. „Zapach wiosny”. \nWstęp wolny za okazaniem bezpłatnej wejściówki\, dostępnej w kasie Kina Zdrój.
URL:https://ciechocinek.pl/wydarzenie/koncert-z-cyklu-cztery-pory-roku-wiosna/
LOCATION:Teatr Letni\, Mikołaja Kopernika 3\, Ciechocinek\, 87-720
ATTACH;FMTTYPE=image/png:https://ciechocinek.pl/wp-content/uploads/2026/02/1000128136-scaled.png
END:VEVENT
END:VCALENDAR