BEGIN:VCALENDAR
VERSION:2.0
PRODID:-//Ciechocinek.pl - ECPv6.15.12.2//NONSGML v1.0//EN
CALSCALE:GREGORIAN
METHOD:PUBLISH
X-WR-CALNAME:Ciechocinek.pl
X-ORIGINAL-URL:https://ciechocinek.pl
X-WR-CALDESC:Wydarzenia dla Ciechocinek.pl
REFRESH-INTERVAL;VALUE=DURATION:PT1H
X-Robots-Tag:noindex
X-PUBLISHED-TTL:PT1H
BEGIN:VTIMEZONE
TZID:Europe/Warsaw
BEGIN:DAYLIGHT
TZOFFSETFROM:+0100
TZOFFSETTO:+0200
TZNAME:CEST
DTSTART:20250330T010000
END:DAYLIGHT
BEGIN:STANDARD
TZOFFSETFROM:+0200
TZOFFSETTO:+0100
TZNAME:CET
DTSTART:20251026T010000
END:STANDARD
BEGIN:DAYLIGHT
TZOFFSETFROM:+0100
TZOFFSETTO:+0200
TZNAME:CEST
DTSTART:20260329T010000
END:DAYLIGHT
BEGIN:STANDARD
TZOFFSETFROM:+0200
TZOFFSETTO:+0100
TZNAME:CET
DTSTART:20261025T010000
END:STANDARD
BEGIN:DAYLIGHT
TZOFFSETFROM:+0100
TZOFFSETTO:+0200
TZNAME:CEST
DTSTART:20270328T010000
END:DAYLIGHT
BEGIN:STANDARD
TZOFFSETFROM:+0200
TZOFFSETTO:+0100
TZNAME:CET
DTSTART:20271031T010000
END:STANDARD
END:VTIMEZONE
BEGIN:VEVENT
DTSTART;TZID=Europe/Warsaw:20260315T143000
DTEND;TZID=Europe/Warsaw:20260317T134000
DTSTAMP:20260420T125245
CREATED:20260213T063006Z
LAST-MODIFIED:20260308T074853Z
UID:2540-1773585000-1773754800@ciechocinek.pl
SUMMARY:Konferencja „Ciechocińska Solanka”
DESCRIPTION:Zapraszamy na wyjątkową konferencję poświęconą zdrowotnym właściwościom solanki oraz przyszłości polskich uzdrowisk!\n\n\nWspólnie odkryjemy zdrowotne moce solanki – od geologii\, przez balneologię\, aż po nowoczesne kierunki rozwoju uzdrowisk.\n\n\nW programie m.in.:\n Ciechocińska solanka – zdrowie zaklęte w naturze\n Wody lecznicze Kujaw i Pomorza – nauka i praktyka\n „Białe złoto” – sól w medycynie\, kosmetologii i rehabilitacji\n Balneologia i rehabilitacja sportowa XXI wieku\n Turystyka prozdrowotna i nowoczesne uzdrowiska\n\n\nUdział w konferencji jest bezpłatny!\n\n\n\nCiechocinek 2026\n15 marca | 14:30–18:00 (Teatr Letni)\n16 marca | 9:00–18:00\n17 marca | 9:00–13:40\n\n  \nNa konferencję zapraszają: \nMarszałek Województwa Kujawsko-Pomorskiego Piotr Całbecki \nPrezes Kujawsko-Pomorskiego Centrum Naukowo-Technologicznego im. prof. Jana Czochralskiego sp. z o.o. prof. dr hab. Bogusław Buszewski \nBurmistrz Ciechocinka Jarosław Jucewicz \nPrezes Uzdrowiska Ciechocinek S.A. dr Marcin Zajączkowski \n  \nProgram konferencji – wersja książkowa \nProgram konferencji \n  \nSzczegóły na stronie ciechocinskasolanka.pl
URL:https://ciechocinek.pl/wydarzenie/konferencja-ciechocinska-solanka/
LOCATION:Ciechocinek\, Ciechocinek
ATTACH;FMTTYPE=image/png:https://ciechocinek.pl/wp-content/uploads/2026/02/b8676c38-1-scaled.png
END:VEVENT
END:VCALENDAR