BEGIN:VCALENDAR
VERSION:2.0
PRODID:-//Ciechocinek.pl - ECPv6.15.12.2//NONSGML v1.0//EN
CALSCALE:GREGORIAN
METHOD:PUBLISH
X-WR-CALNAME:Ciechocinek.pl
X-ORIGINAL-URL:https://ciechocinek.pl
X-WR-CALDESC:Wydarzenia dla Ciechocinek.pl
REFRESH-INTERVAL;VALUE=DURATION:PT1H
X-Robots-Tag:noindex
X-PUBLISHED-TTL:PT1H
BEGIN:VTIMEZONE
TZID:Europe/Warsaw
BEGIN:DAYLIGHT
TZOFFSETFROM:+0100
TZOFFSETTO:+0200
TZNAME:CEST
DTSTART:20240331T010000
END:DAYLIGHT
BEGIN:STANDARD
TZOFFSETFROM:+0200
TZOFFSETTO:+0100
TZNAME:CET
DTSTART:20241027T010000
END:STANDARD
BEGIN:DAYLIGHT
TZOFFSETFROM:+0100
TZOFFSETTO:+0200
TZNAME:CEST
DTSTART:20250330T010000
END:DAYLIGHT
BEGIN:STANDARD
TZOFFSETFROM:+0200
TZOFFSETTO:+0100
TZNAME:CET
DTSTART:20251026T010000
END:STANDARD
BEGIN:DAYLIGHT
TZOFFSETFROM:+0100
TZOFFSETTO:+0200
TZNAME:CEST
DTSTART:20260329T010000
END:DAYLIGHT
BEGIN:STANDARD
TZOFFSETFROM:+0200
TZOFFSETTO:+0100
TZNAME:CET
DTSTART:20261025T010000
END:STANDARD
END:VTIMEZONE
BEGIN:VEVENT
DTSTART;TZID=Europe/Warsaw:20251111T100000
DTEND;TZID=Europe/Warsaw:20251111T120000
DTSTAMP:20260422T155038
CREATED:20251029T105310Z
LAST-MODIFIED:20251029T105310Z
UID:1300-1762855200-1762862400@ciechocinek.pl
SUMMARY:Miejskie Obchody 107. rocznicy odzyskania Niepodległości przez Polskę
DESCRIPTION:Miejskie Obchody 107. Rocznicy Odzyskania Niepodległości przez Polskę11 listopada 2025Burmistrz Ciechocinka Jarosław Jucewicz\, Rada Miejska oraz Miejskie Centrum Kultury im. Janusza Majewskiego w Ciechocinku serdecznie zaprasza mieszkańców oraz gości do wspólnego uczczenia Narodowego Święta Niepodległości!Uroczystości rozpoczną się mszą świętą w intencji ojczyzny o godzinie 10:00 w Kolegiacie Świętych Apostołów Piotra i Pawła.Następnie o godz. 11:00 nastąpi uroczyste złożenie kwiatów pod pomnikiem Romualda Traugutta.Jeśli ktoś z Państwa chciałby złożyć wiązankę podczas uroczystości – prosimy o kontakt mailowy: warsztaty@ciechocinek.pl
URL:https://ciechocinek.pl/wydarzenie/miejskie-obchody-107-rocznicy-odzyskania-niepodleglosci-przez-polske/
LOCATION:Ciechocinek\, Ciechocinek
ATTACH;FMTTYPE=image/jpeg:https://ciechocinek.pl/wp-content/uploads/2025/10/11.11.jpg
END:VEVENT
END:VCALENDAR