BEGIN:VCALENDAR
VERSION:2.0
PRODID:-//Ciechocinek.pl - ECPv6.15.12.2//NONSGML v1.0//EN
CALSCALE:GREGORIAN
METHOD:PUBLISH
X-WR-CALNAME:Ciechocinek.pl
X-ORIGINAL-URL:https://ciechocinek.pl
X-WR-CALDESC:Wydarzenia dla Ciechocinek.pl
REFRESH-INTERVAL;VALUE=DURATION:PT1H
X-Robots-Tag:noindex
X-PUBLISHED-TTL:PT1H
BEGIN:VTIMEZONE
TZID:Europe/Warsaw
BEGIN:DAYLIGHT
TZOFFSETFROM:+0100
TZOFFSETTO:+0200
TZNAME:CEST
DTSTART:20250330T010000
END:DAYLIGHT
BEGIN:STANDARD
TZOFFSETFROM:+0200
TZOFFSETTO:+0100
TZNAME:CET
DTSTART:20251026T010000
END:STANDARD
BEGIN:DAYLIGHT
TZOFFSETFROM:+0100
TZOFFSETTO:+0200
TZNAME:CEST
DTSTART:20260329T010000
END:DAYLIGHT
BEGIN:STANDARD
TZOFFSETFROM:+0200
TZOFFSETTO:+0100
TZNAME:CET
DTSTART:20261025T010000
END:STANDARD
BEGIN:DAYLIGHT
TZOFFSETFROM:+0100
TZOFFSETTO:+0200
TZNAME:CEST
DTSTART:20270328T010000
END:DAYLIGHT
BEGIN:STANDARD
TZOFFSETFROM:+0200
TZOFFSETTO:+0100
TZNAME:CET
DTSTART:20271031T010000
END:STANDARD
END:VTIMEZONE
BEGIN:VEVENT
DTSTART;TZID=Europe/Warsaw:20260503T100000
DTEND;TZID=Europe/Warsaw:20260503T120000
DTSTAMP:20260422T142354
CREATED:20260421T065215Z
LAST-MODIFIED:20260421T065225Z
UID:3034-1777802400-1777809600@ciechocinek.pl
SUMMARY:Obchody 235. rocznicy uchwalenia Konstytucji 3 Maja
DESCRIPTION:Burmistrz Ciechocinka Jarosław Jucewicz\, Rada Miejska oraz Miejskie Centrum Kultury im. Janusza Majewskiego w Ciechocinku serdecznie zapraszają na obchody 235. rocznicy uchwalenia Konstytucji 3 Maja.Program uroczystości:10:00 – Msza Święta w intencji Ojczyzny w Kolegiacie Świętych Apostołów Piotra i Pawła w Ciechocinku10:45 – Przemarsz ulicami miasta w kierunku pomnika Romuald Traugutt11:00 – Wystąpienia okolicznościowe i złożenie kwiatówOprawę muzyczną zapewni Orkiestra Dęta OSP Raciążek.To wyjątkowa okazja\, by wspólnie uczcić jedno z najważniejszych wydarzeń w historii Polski i okazać dumę z naszej tożsamości narodowej.Jeśli ktoś z Państwa chciałby złożyć wiązankę podczas uroczystości – prosimy o kontakt mailowy: warsztaty@mck.ciechocinek.plSerdecznie zapraszamy do wspólnego świętowania!
URL:https://ciechocinek.pl/wydarzenie/obchody-235-rocznicy-uchwalenia-konstytucja-3-maja/
LOCATION:Ciechocinek\, Ciechocinek
ATTACH;FMTTYPE=image/jpeg:https://ciechocinek.pl/wp-content/uploads/2026/04/3maja.jpg
END:VEVENT
END:VCALENDAR