BEGIN:VCALENDAR
VERSION:2.0
PRODID:-//Ciechocinek.pl - ECPv6.15.12.2//NONSGML v1.0//EN
CALSCALE:GREGORIAN
METHOD:PUBLISH
X-WR-CALNAME:Ciechocinek.pl
X-ORIGINAL-URL:https://ciechocinek.pl
X-WR-CALDESC:Wydarzenia dla Ciechocinek.pl
REFRESH-INTERVAL;VALUE=DURATION:PT1H
X-Robots-Tag:noindex
X-PUBLISHED-TTL:PT1H
BEGIN:VTIMEZONE
TZID:Europe/Warsaw
BEGIN:DAYLIGHT
TZOFFSETFROM:+0100
TZOFFSETTO:+0200
TZNAME:CEST
DTSTART:20250330T010000
END:DAYLIGHT
BEGIN:STANDARD
TZOFFSETFROM:+0200
TZOFFSETTO:+0100
TZNAME:CET
DTSTART:20251026T010000
END:STANDARD
BEGIN:DAYLIGHT
TZOFFSETFROM:+0100
TZOFFSETTO:+0200
TZNAME:CEST
DTSTART:20260329T010000
END:DAYLIGHT
BEGIN:STANDARD
TZOFFSETFROM:+0200
TZOFFSETTO:+0100
TZNAME:CET
DTSTART:20261025T010000
END:STANDARD
BEGIN:DAYLIGHT
TZOFFSETFROM:+0100
TZOFFSETTO:+0200
TZNAME:CEST
DTSTART:20270328T010000
END:DAYLIGHT
BEGIN:STANDARD
TZOFFSETFROM:+0200
TZOFFSETTO:+0100
TZNAME:CET
DTSTART:20271031T010000
END:STANDARD
END:VTIMEZONE
BEGIN:VEVENT
DTSTART;VALUE=DATE:20260130
DTEND;VALUE=DATE:20260202
DTSTAMP:20260420T104521
CREATED:20260120T102456Z
LAST-MODIFIED:20260120T102741Z
UID:2418-1769731200-1769990399@ciechocinek.pl
SUMMARY:Obóz sparingowy CKB Ciechocinek
DESCRIPTION:Klub Bokserski CKB Ciechocinek serdecznie zaprasza kluby i zawodników na Obóz Sparingowy\, który odbędzie się w dniach 30 stycznia – 1 lutego w Ciechocinku. \nWydarzenie będzie doskonałą okazją do sprawdzenia formy sportowej\, zdobycia cennego doświadczenia ringowego oraz integracji środowiska bokserskiego w duchu fair play. W programie przewidziane są treningi oraz sparingi rozgrywane na dwóch ringach. \nPlan obozu: \n\n30 stycznia (piątek)\nPrzyjazd ekip i zakwaterowanie\nGodz. 18:00 – trening\nMiejsce: ul. Lipnowska 11c\n31 stycznia (sobota)\nGodz. 9:00–10:00 – ustawianie par\nGodz. 11:00 – sparingi (2 ringi)\nGodz. 17:00 – sparingi\n1 lutego (niedziela)\nGodz. 10:00 – sparingi\nGodz. 13:00 – zakończenie obozu\nGodz. 13:30 – wyjazd ekip\n\nProsimy o punktualność oraz odpowiednie przygotowanie sportowe.\nCzekają na Was intensywne treningi\, sportowa rywalizacja i doskonała atmosfera. \nDo zobaczenia na ringu!\nTrening • Walka • Charakter
URL:https://ciechocinek.pl/wydarzenie/oboz-sparingowy-ckb-ciechocinek/
LOCATION:Ciechocinek\, Ciechocinek
ATTACH;FMTTYPE=image/jpeg:https://ciechocinek.pl/wp-content/uploads/2026/01/obozckb.jpg
END:VEVENT
END:VCALENDAR