BEGIN:VCALENDAR
VERSION:2.0
PRODID:-//Ciechocinek.pl - ECPv6.15.12.2//NONSGML v1.0//EN
CALSCALE:GREGORIAN
METHOD:PUBLISH
X-WR-CALNAME:Ciechocinek.pl
X-ORIGINAL-URL:https://ciechocinek.pl
X-WR-CALDESC:Wydarzenia dla Ciechocinek.pl
REFRESH-INTERVAL;VALUE=DURATION:PT1H
X-Robots-Tag:noindex
X-PUBLISHED-TTL:PT1H
BEGIN:VTIMEZONE
TZID:Europe/Warsaw
BEGIN:DAYLIGHT
TZOFFSETFROM:+0100
TZOFFSETTO:+0200
TZNAME:CEST
DTSTART:20250330T010000
END:DAYLIGHT
BEGIN:STANDARD
TZOFFSETFROM:+0200
TZOFFSETTO:+0100
TZNAME:CET
DTSTART:20251026T010000
END:STANDARD
BEGIN:DAYLIGHT
TZOFFSETFROM:+0100
TZOFFSETTO:+0200
TZNAME:CEST
DTSTART:20260329T010000
END:DAYLIGHT
BEGIN:STANDARD
TZOFFSETFROM:+0200
TZOFFSETTO:+0100
TZNAME:CET
DTSTART:20261025T010000
END:STANDARD
BEGIN:DAYLIGHT
TZOFFSETFROM:+0100
TZOFFSETTO:+0200
TZNAME:CEST
DTSTART:20270328T010000
END:DAYLIGHT
BEGIN:STANDARD
TZOFFSETFROM:+0200
TZOFFSETTO:+0100
TZNAME:CET
DTSTART:20271031T010000
END:STANDARD
END:VTIMEZONE
BEGIN:VEVENT
DTSTART;TZID=Europe/Warsaw:20260503T120000
DTEND;TZID=Europe/Warsaw:20260503T160000
DTSTAMP:20260424T174042
CREATED:20260423T191952Z
LAST-MODIFIED:20260423T194107Z
UID:3045-1777809600-1777824000@ciechocinek.pl
SUMMARY:Odsłonięcie gwiazdy Soni Bohosiewicz
DESCRIPTION:3 maja 2026 roku na Ciechocińskim Deptaku Sław swoją gwiazdę odsłoni Sonia Bohosiewicz – wybitna polska aktorka filmowa i teatralna\, piosenkarka oraz artystka kabaretowa. \nArtystka znana z niezwykłej energii scenicznej\, talentu i charyzmy\, od lat zachwyca publiczność zarówno w teatrze\, jak i na ekranie. Co szczególnie ważne – Sonia Bohosiewicz jest związana z Ciechocinkiem! To właśnie tutaj powstawał film „Excentrycy. Po słonecznej stronie ulicy”\, w którym wystąpiła\, wpisując się tym samym w historię naszego miasta. \nJuż wkrótce pozostawi swój trwały ślad na deptaku\, dołączając do grona wyjątkowych osobowości polskiej kultury. \n3 maja 2026 \n12:00 – Spotkanie otwarte w Teatrze Letnim \n13:00 – Uroczyste odsłonięcie gwiazdy na Ciechocińskim Deptaku Sław \n15:00 – Koncert „Po słonecznej stronie ulicy” w Muszli Koncertowej w Parku Zdrojowym
URL:https://ciechocinek.pl/wydarzenie/odsloniecie-gwiazdy-soni-bohosiewicz/
LOCATION:Ciechocinek\, Ciechocinek
ATTACH;FMTTYPE=image/jpeg:https://ciechocinek.pl/wp-content/uploads/2026/04/bohosiewicz-gwiazda-plakat.jpeg
END:VEVENT
END:VCALENDAR