BEGIN:VCALENDAR
VERSION:2.0
PRODID:-//Ciechocinek.pl - ECPv6.15.12.2//NONSGML v1.0//EN
CALSCALE:GREGORIAN
METHOD:PUBLISH
X-WR-CALNAME:Ciechocinek.pl
X-ORIGINAL-URL:https://ciechocinek.pl
X-WR-CALDESC:Wydarzenia dla Ciechocinek.pl
REFRESH-INTERVAL;VALUE=DURATION:PT1H
X-Robots-Tag:noindex
X-PUBLISHED-TTL:PT1H
BEGIN:VTIMEZONE
TZID:Europe/Warsaw
BEGIN:DAYLIGHT
TZOFFSETFROM:+0100
TZOFFSETTO:+0200
TZNAME:CEST
DTSTART:20250330T010000
END:DAYLIGHT
BEGIN:STANDARD
TZOFFSETFROM:+0200
TZOFFSETTO:+0100
TZNAME:CET
DTSTART:20251026T010000
END:STANDARD
BEGIN:DAYLIGHT
TZOFFSETFROM:+0100
TZOFFSETTO:+0200
TZNAME:CEST
DTSTART:20260329T010000
END:DAYLIGHT
BEGIN:STANDARD
TZOFFSETFROM:+0200
TZOFFSETTO:+0100
TZNAME:CET
DTSTART:20261025T010000
END:STANDARD
BEGIN:DAYLIGHT
TZOFFSETFROM:+0100
TZOFFSETTO:+0200
TZNAME:CEST
DTSTART:20270328T010000
END:DAYLIGHT
BEGIN:STANDARD
TZOFFSETFROM:+0200
TZOFFSETTO:+0100
TZNAME:CET
DTSTART:20271031T010000
END:STANDARD
END:VTIMEZONE
BEGIN:VEVENT
DTSTART;TZID=Europe/Warsaw:20260308T093000
DTEND;TZID=Europe/Warsaw:20260308T093000
DTSTAMP:20260420T122212
CREATED:20260213T164727Z
LAST-MODIFIED:20260213T164727Z
UID:2626-1772962200-1772962200@ciechocinek.pl
SUMMARY:Ogólnopolski Turniej Mini Piłki Siatkowej Dziewcząt
DESCRIPTION:SKS Aleksandria ma zaszczyt zaprosić młode siatkarki na wyjątkowe sportowe wydarzenie w Ciechocinku! To idealna okazja\, aby sprawdzić swoje umiejętności\, poczuć ducha rywalizacji i przede wszystkim świetnie się bawić!​KLUCZOWE INFORMACJE:​Kategoria: SINGLE (dziewczęta\, roczniki 2016 i młodsze)​Kiedy: 8 marca 2026 r. (niedziela)​Start: godzina 09:30​Gdzie: Hala OSiR Ciechocinek\, ul. Lipnowska 11C​WPISOWE I ZGŁOSZENIA:​Koszt: tylko 10 zł od zawodniczki!​Limit: Kluby mogą zgłosić maksymalnie 10 zawodniczek.​Zapisy: do 25.02.2026 r.​Zgłoszenia mailowe: sksaleksandria@onet.pl​Każda uczestniczka turnieju otrzyma pamiątkowy MEDAL!​Masz pytania? Zadzwoń: 726 375 659Siatkarskie emocje gwarantowane!
URL:https://ciechocinek.pl/wydarzenie/ogolnopolski-turniej-mini-pilki-siatkowej-dziewczat/
LOCATION:Hala sportowa OSiR\, Lipnowska 11c\, Ciechocinek
ATTACH;FMTTYPE=image/jpeg:https://ciechocinek.pl/wp-content/uploads/2026/02/ogolnopolskiturniejminipilki_sksaleksandria_plakat.jpg
END:VEVENT
END:VCALENDAR