BEGIN:VCALENDAR
VERSION:2.0
PRODID:-//Ciechocinek.pl - ECPv6.15.12.2//NONSGML v1.0//EN
CALSCALE:GREGORIAN
METHOD:PUBLISH
X-WR-CALNAME:Ciechocinek.pl
X-ORIGINAL-URL:https://ciechocinek.pl
X-WR-CALDESC:Wydarzenia dla Ciechocinek.pl
REFRESH-INTERVAL;VALUE=DURATION:PT1H
X-Robots-Tag:noindex
X-PUBLISHED-TTL:PT1H
BEGIN:VTIMEZONE
TZID:Europe/Warsaw
BEGIN:DAYLIGHT
TZOFFSETFROM:+0100
TZOFFSETTO:+0200
TZNAME:CEST
DTSTART:20240331T010000
END:DAYLIGHT
BEGIN:STANDARD
TZOFFSETFROM:+0200
TZOFFSETTO:+0100
TZNAME:CET
DTSTART:20241027T010000
END:STANDARD
BEGIN:DAYLIGHT
TZOFFSETFROM:+0100
TZOFFSETTO:+0200
TZNAME:CEST
DTSTART:20250330T010000
END:DAYLIGHT
BEGIN:STANDARD
TZOFFSETFROM:+0200
TZOFFSETTO:+0100
TZNAME:CET
DTSTART:20251026T010000
END:STANDARD
BEGIN:DAYLIGHT
TZOFFSETFROM:+0100
TZOFFSETTO:+0200
TZNAME:CEST
DTSTART:20260329T010000
END:DAYLIGHT
BEGIN:STANDARD
TZOFFSETFROM:+0200
TZOFFSETTO:+0100
TZNAME:CET
DTSTART:20261025T010000
END:STANDARD
END:VTIMEZONE
BEGIN:VEVENT
DTSTART;TZID=Europe/Warsaw:20251106T163000
DTEND;TZID=Europe/Warsaw:20251106T190000
DTSTAMP:20260422T154827
CREATED:20251021T175648Z
LAST-MODIFIED:20251021T175648Z
UID:1248-1762446600-1762455600@ciechocinek.pl
SUMMARY:Otwarte uroczyste zebranie członków i sympatyków Towarzystwa Przyjaciół Ciechocinka
DESCRIPTION:
URL:https://ciechocinek.pl/wydarzenie/otwarte-uroczyste-zebranie-czlonkow-i-sympatykow-towarzystwa-przyjaciol-ciechocinka/
LOCATION:Hotel Austeria\, Bema 32\, Ciechocinek\, kujawsko-pomorskie\, 87-720\, Poland
ATTACH;FMTTYPE=image/jpeg:https://ciechocinek.pl/wp-content/uploads/2025/10/Zebranie-plakat-scaled-1.jpg
END:VEVENT
END:VCALENDAR