BEGIN:VCALENDAR
VERSION:2.0
PRODID:-//Ciechocinek.pl - ECPv6.15.12.2//NONSGML v1.0//EN
CALSCALE:GREGORIAN
METHOD:PUBLISH
X-WR-CALNAME:Ciechocinek.pl
X-ORIGINAL-URL:https://ciechocinek.pl
X-WR-CALDESC:Wydarzenia dla Ciechocinek.pl
REFRESH-INTERVAL;VALUE=DURATION:PT1H
X-Robots-Tag:noindex
X-PUBLISHED-TTL:PT1H
BEGIN:VTIMEZONE
TZID:Europe/Warsaw
BEGIN:DAYLIGHT
TZOFFSETFROM:+0100
TZOFFSETTO:+0200
TZNAME:CEST
DTSTART:20250330T010000
END:DAYLIGHT
BEGIN:STANDARD
TZOFFSETFROM:+0200
TZOFFSETTO:+0100
TZNAME:CET
DTSTART:20251026T010000
END:STANDARD
BEGIN:DAYLIGHT
TZOFFSETFROM:+0100
TZOFFSETTO:+0200
TZNAME:CEST
DTSTART:20260329T010000
END:DAYLIGHT
BEGIN:STANDARD
TZOFFSETFROM:+0200
TZOFFSETTO:+0100
TZNAME:CET
DTSTART:20261025T010000
END:STANDARD
BEGIN:DAYLIGHT
TZOFFSETFROM:+0100
TZOFFSETTO:+0200
TZNAME:CEST
DTSTART:20270328T010000
END:DAYLIGHT
BEGIN:STANDARD
TZOFFSETFROM:+0200
TZOFFSETTO:+0100
TZNAME:CET
DTSTART:20271031T010000
END:STANDARD
END:VTIMEZONE
BEGIN:VEVENT
DTSTART;TZID=Europe/Warsaw:20260331T193000
DTEND;TZID=Europe/Warsaw:20260331T193000
DTSTAMP:20260422T122851
CREATED:20260322T190336Z
LAST-MODIFIED:20260322T190336Z
UID:2898-1774985400-1774985400@ciechocinek.pl
SUMMARY:Program słowno-muzyczny poświęcony Janowi Pawłowi II
DESCRIPTION:Koncert poświęcony Janowi Pawłowi II w 21. rocznicę śmierci.Na program słowno-muzyczny złożą się poezja Karola Wojtyły z czasów jego młodości oraz fragmenty przesłań papieża Polaka\, które skierował do nas\, swoich rodaków. Prezentacja przeplatana będzie utworami muzycznymi.Zabrzmią między innymi pieśni\, które znał i które sam śpiewał nasz wielki rodak z Wadowic. Jak podkreślał Jan Paweł II Polacy przetrwali dzięki kulturze\, jednym z jej najważniejszych ambasado-rów w świecie był i jest Fryderyk Chopin\, również Ignacy Jan Paderewski. Ich utwory usłyszy także publiczność zgromadzona 31 marca w ciechocińskiej „Galerii Pod Dachem Nieba”.„Los ojczyzny dziś leży w Waszych rękach\, nie jutro. Jutro będzie takie\, jakie sami sobie utworzy-cie. Oby to nie było jutro\, – bez ojczyzny” -to słowa\, którymi nasz wielki rodak przypominał nam o obowiązkach względem Polski.Zapraszamy na spotkanie z twórczością poetycką i przesłaniami Jana Pawła II.Wystąpią: Izabela Chojnacka\, Dominika Dropiewska\, Gabriela Dropiewska\, Edyta Hermanowska – śpiew\, Dorota Chojnacka\, Krzysztof Ochociński – fortepian\, Wanda Wasicka – słowo\, w tym poetyckie.Organizatorzy: Towarzystwo Przyjaciół Ciechocinka i 22. Wojskowy Szpital Uzdrowiskowo-Rehabilitacyjny w Ciechocinku. Wstęp wolny!
URL:https://ciechocinek.pl/wydarzenie/program-slowno-muzyczny-poswiecony-janowi-pawlowi-ii/
LOCATION:Galeria „Pod dachem nieba”\, Wojska Polskiego\, Ciechocinek
ATTACH;FMTTYPE=image/jpeg:https://ciechocinek.pl/wp-content/uploads/2026/03/jp2_032026-plakat.jpg
END:VEVENT
END:VCALENDAR