BEGIN:VCALENDAR
VERSION:2.0
PRODID:-//Ciechocinek.pl - ECPv6.15.12.2//NONSGML v1.0//EN
CALSCALE:GREGORIAN
METHOD:PUBLISH
X-WR-CALNAME:Ciechocinek.pl
X-ORIGINAL-URL:https://ciechocinek.pl
X-WR-CALDESC:Wydarzenia dla Ciechocinek.pl
REFRESH-INTERVAL;VALUE=DURATION:PT1H
X-Robots-Tag:noindex
X-PUBLISHED-TTL:PT1H
BEGIN:VTIMEZONE
TZID:Europe/Warsaw
BEGIN:DAYLIGHT
TZOFFSETFROM:+0100
TZOFFSETTO:+0200
TZNAME:CEST
DTSTART:20240331T010000
END:DAYLIGHT
BEGIN:STANDARD
TZOFFSETFROM:+0200
TZOFFSETTO:+0100
TZNAME:CET
DTSTART:20241027T010000
END:STANDARD
BEGIN:DAYLIGHT
TZOFFSETFROM:+0100
TZOFFSETTO:+0200
TZNAME:CEST
DTSTART:20250330T010000
END:DAYLIGHT
BEGIN:STANDARD
TZOFFSETFROM:+0200
TZOFFSETTO:+0100
TZNAME:CET
DTSTART:20251026T010000
END:STANDARD
BEGIN:DAYLIGHT
TZOFFSETFROM:+0100
TZOFFSETTO:+0200
TZNAME:CEST
DTSTART:20260329T010000
END:DAYLIGHT
BEGIN:STANDARD
TZOFFSETFROM:+0200
TZOFFSETTO:+0100
TZNAME:CET
DTSTART:20261025T010000
END:STANDARD
END:VTIMEZONE
BEGIN:VEVENT
DTSTART;TZID=Europe/Warsaw:20251212T180000
DTEND;TZID=Europe/Warsaw:20251212T180000
DTSTAMP:20260422T123935
CREATED:20251208T132343Z
LAST-MODIFIED:20251210T070633Z
UID:2098-1765562400-1765562400@ciechocinek.pl
SUMMARY:Spektakl charytatywny "Świąteczna manufaktura"
DESCRIPTION:Przedstawienie „Świąteczna Manufaktura” – pełne świątecznej magii\, uśmiechu i dobra!\n\n\nTo nie tylko okazja\, by poczuć klimat nadchodzących świąt\, ale przede wszystkim szansa\, by pomóc małej Oli Ślęzak.\n\n\nCały dochód ze sprzedaży biletów zostanie przeznaczony na jej leczenie.\n\n\nBilet: 20 zł\n\n\nPatronat Honorowy: Burmistrz Ciechocinka Jarosław Jucewicz\n\n\nPrzyjdź\, zabierz bliskich i razem stwórzmy trochę świątecznych cudów.\nNie możesz być w tym dniu z nami\, zachęć rodzinę\, przyjaciół\, znajomych!
URL:https://ciechocinek.pl/wydarzenie/spektakl-charytatywny-swiateczna-manufaktura/
LOCATION:Teatr Letni\, Mikołaja Kopernika 3\, Ciechocinek\, 87-720
ATTACH;FMTTYPE=image/jpeg:https://ciechocinek.pl/wp-content/uploads/2025/12/Swiateczna-Manufaktura-2.jpg
END:VEVENT
END:VCALENDAR