BEGIN:VCALENDAR
VERSION:2.0
PRODID:-//Ciechocinek.pl - ECPv6.15.12.2//NONSGML v1.0//EN
CALSCALE:GREGORIAN
METHOD:PUBLISH
X-WR-CALNAME:Ciechocinek.pl
X-ORIGINAL-URL:https://ciechocinek.pl
X-WR-CALDESC:Wydarzenia dla Ciechocinek.pl
REFRESH-INTERVAL;VALUE=DURATION:PT1H
X-Robots-Tag:noindex
X-PUBLISHED-TTL:PT1H
BEGIN:VTIMEZONE
TZID:Europe/Warsaw
BEGIN:DAYLIGHT
TZOFFSETFROM:+0100
TZOFFSETTO:+0200
TZNAME:CEST
DTSTART:20250330T010000
END:DAYLIGHT
BEGIN:STANDARD
TZOFFSETFROM:+0200
TZOFFSETTO:+0100
TZNAME:CET
DTSTART:20251026T010000
END:STANDARD
BEGIN:DAYLIGHT
TZOFFSETFROM:+0100
TZOFFSETTO:+0200
TZNAME:CEST
DTSTART:20260329T010000
END:DAYLIGHT
BEGIN:STANDARD
TZOFFSETFROM:+0200
TZOFFSETTO:+0100
TZNAME:CET
DTSTART:20261025T010000
END:STANDARD
BEGIN:DAYLIGHT
TZOFFSETFROM:+0100
TZOFFSETTO:+0200
TZNAME:CEST
DTSTART:20270328T010000
END:DAYLIGHT
BEGIN:STANDARD
TZOFFSETFROM:+0200
TZOFFSETTO:+0100
TZNAME:CET
DTSTART:20271031T010000
END:STANDARD
END:VTIMEZONE
BEGIN:VEVENT
DTSTART;VALUE=DATE:20261114
DTEND;VALUE=DATE:20261115
DTSTAMP:20260421T121542
CREATED:20260213T135303Z
LAST-MODIFIED:20260213T135303Z
UID:2617-1794614400-1794700799@ciechocinek.pl
SUMMARY:Spektakl Teatru Klasyki Polskiej "Herbert. Prowadził za rękę światło"
DESCRIPTION:Spektakl muzyczny inspirowany życiem i twórczością Zbigniewa Herberta\, oparty na zestawieniu esejów z jego zbioru „Barbarzyńca w ogrodzie”\, będący literacką podróżą do świata kultury\, w której przewodnikiem jest sam autor. Przewodnik ten prowadzi widza przez piękno i harmonię dzieł kultury śródziemnomorskiej oraz wybrane utwory poetyckie.\nBarbarzyńca w ogrodzie otwiera przed odbiorcą świat wspaniałych dzieł sztuki\, o których poeta pisze z ogromną erudycją i wrażliwością. Przenikliwie oddaje istotę pracy twórczej malarzy\, ale i budowniczych wielkich katedr\, ukazując ich czasy i miejsca\, których genius loci poeta stara się uchwycić. Narratorem esejów jest tytułowy „barbarzyńca”)\, człowiek pewnie poruszający się w świecie sztuki\, zainteresowany przy tym nie tylko dawnym malarstwem i architekturą\, ale także zmysłowym odbiorem widoków\, zapachów i smaków. Pielgrzym\, świadomy\, wyedukowany odbiorca\, powracający do kraju\, w którym te „pocztówki” podróży\, mają swój cel: przywołanie porządku i harmonii\, na której zbudowana jest kultura Europy w czasach\, kiedy przywoływanie podstawowych wartości „wprost” było niemożliwe. Herbert odnajduje „moralną stałą” w tradycji grecko-rzymskiej\, w fundamentach Europy\, od której Polska oderwana została wyrokiem historii. \nJaki Barbarzyńca w ogrodzie ukazuje się naszym oczom dziś? Mamy w nim dokonaną przez „wydziedziczonego” próbę odzyskania tego\, z czego go okradziono\, przywrócenia mu jego wielkiej ojczyzny w ogrodzie Europy. Herbert czyni nas wszystkich „panami tradycji”\, władnymi z niej wybierać. Pisząc o sztuce\, o wolności i zniewoleniu\, Herbert pisze o Polsce swoich czasów\, o sobie i przede wszystkim o nas. \nCzas trwania: 1h 30′
URL:https://ciechocinek.pl/wydarzenie/spektakl-teatru-klasyki-polskiej-herbert-prowadzil-za-reke-swiatlo/
LOCATION:Teatr Letni\, Mikołaja Kopernika 3\, Ciechocinek\, 87-720
ATTACH;FMTTYPE=image/webp:https://ciechocinek.pl/wp-content/uploads/2026/02/herbert.webp
END:VEVENT
END:VCALENDAR