BEGIN:VCALENDAR
VERSION:2.0
PRODID:-//Ciechocinek.pl - ECPv6.15.12.2//NONSGML v1.0//EN
CALSCALE:GREGORIAN
METHOD:PUBLISH
X-WR-CALNAME:Ciechocinek.pl
X-ORIGINAL-URL:https://ciechocinek.pl
X-WR-CALDESC:Wydarzenia dla Ciechocinek.pl
REFRESH-INTERVAL;VALUE=DURATION:PT1H
X-Robots-Tag:noindex
X-PUBLISHED-TTL:PT1H
BEGIN:VTIMEZONE
TZID:Europe/Warsaw
BEGIN:DAYLIGHT
TZOFFSETFROM:+0100
TZOFFSETTO:+0200
TZNAME:CEST
DTSTART:20250330T010000
END:DAYLIGHT
BEGIN:STANDARD
TZOFFSETFROM:+0200
TZOFFSETTO:+0100
TZNAME:CET
DTSTART:20251026T010000
END:STANDARD
BEGIN:DAYLIGHT
TZOFFSETFROM:+0100
TZOFFSETTO:+0200
TZNAME:CEST
DTSTART:20260329T010000
END:DAYLIGHT
BEGIN:STANDARD
TZOFFSETFROM:+0200
TZOFFSETTO:+0100
TZNAME:CET
DTSTART:20261025T010000
END:STANDARD
BEGIN:DAYLIGHT
TZOFFSETFROM:+0100
TZOFFSETTO:+0200
TZNAME:CEST
DTSTART:20270328T010000
END:DAYLIGHT
BEGIN:STANDARD
TZOFFSETFROM:+0200
TZOFFSETTO:+0100
TZNAME:CET
DTSTART:20271031T010000
END:STANDARD
END:VTIMEZONE
BEGIN:VEVENT
DTSTART;VALUE=DATE:20260712
DTEND;VALUE=DATE:20260713
DTSTAMP:20260420T122136
CREATED:20260213T122918Z
LAST-MODIFIED:20260213T122918Z
UID:2589-1783814400-1783900799@ciechocinek.pl
SUMMARY:Uroczysta akademia z okazji 120-lecia TPC
DESCRIPTION:Szczegóły bliżej wydarzenia \nOrganizator: Towarzystwo Przyjaciół Ciechocinka
URL:https://ciechocinek.pl/wydarzenie/uroczysta-akademia-z-okazji-120-lecia-tpc/
LOCATION:Ciechocinek\, Ciechocinek
ATTACH;FMTTYPE=image/png:https://ciechocinek.pl/wp-content/uploads/2026/02/Zaslepka-Wydarzenia-190lat.png
END:VEVENT
END:VCALENDAR