BEGIN:VCALENDAR
VERSION:2.0
PRODID:-//Ciechocinek.pl - ECPv6.15.12.2//NONSGML v1.0//EN
CALSCALE:GREGORIAN
METHOD:PUBLISH
X-WR-CALNAME:Ciechocinek.pl
X-ORIGINAL-URL:https://ciechocinek.pl
X-WR-CALDESC:Wydarzenia dla Ciechocinek.pl
REFRESH-INTERVAL;VALUE=DURATION:PT1H
X-Robots-Tag:noindex
X-PUBLISHED-TTL:PT1H
BEGIN:VTIMEZONE
TZID:Europe/Warsaw
BEGIN:DAYLIGHT
TZOFFSETFROM:+0100
TZOFFSETTO:+0200
TZNAME:CEST
DTSTART:20240331T010000
END:DAYLIGHT
BEGIN:STANDARD
TZOFFSETFROM:+0200
TZOFFSETTO:+0100
TZNAME:CET
DTSTART:20241027T010000
END:STANDARD
BEGIN:DAYLIGHT
TZOFFSETFROM:+0100
TZOFFSETTO:+0200
TZNAME:CEST
DTSTART:20250330T010000
END:DAYLIGHT
BEGIN:STANDARD
TZOFFSETFROM:+0200
TZOFFSETTO:+0100
TZNAME:CET
DTSTART:20251026T010000
END:STANDARD
BEGIN:DAYLIGHT
TZOFFSETFROM:+0100
TZOFFSETTO:+0200
TZNAME:CEST
DTSTART:20260329T010000
END:DAYLIGHT
BEGIN:STANDARD
TZOFFSETFROM:+0200
TZOFFSETTO:+0100
TZNAME:CET
DTSTART:20261025T010000
END:STANDARD
END:VTIMEZONE
BEGIN:VEVENT
DTSTART;TZID=Europe/Warsaw:20251209T170000
DTEND;TZID=Europe/Warsaw:20251209T170000
DTSTAMP:20260422T125659
CREATED:20251207T205453Z
LAST-MODIFIED:20251207T205609Z
UID:2088-1765299600-1765299600@ciechocinek.pl
SUMMARY:Wernisaż fotogramów "Barwy światła\, barwy ciszy Katedry Notre Dame w Paryżu"
DESCRIPTION:Wernisaż wystawy fotogramów Wandy Małkowskiej zatytułowanej „Barwy światła\, barwy ciszy Katedry Notre Dame w Paryżu” odbędzie się we wtorek 9 grudnia 2025 r. w „Galerii Pod Dachem Nieba” w Ciechocinku\, która mieści się w 22. Wojskowym Szpitalu Uzdrowiskowo-Rehabilitacyjnym (trzecie piętro) przy ul. Wojska Polskiego 5.\n\n\n\nPodczas wernisażu autorka wygłosi prelekcję pod tytułem „Wpływ budowy katedr gotyckich na zmiany cywilizacyjne Europy”.\n\n\nW części artystycznej wystąpią : Edyta Hermanowska – śpiew\, Wanda Wasicka – słowo\, w tym poetyckie\, Krzysztof Ochociński – fortepian.\n\n\n\nOrganizatorzy: Towarzystwo Przyjaciół Ciechocinka\, 22 Wojskowy Szpital Uzdrowiskowo-Rehabilitacyjny w Ciechocinku. Początek wydarzenia o godz. 17.00. Wstęp wolny. (ww)
URL:https://ciechocinek.pl/wydarzenie/wernisaz-fotogramow-barwy-swiatla-barwy-ciszy-katedry-notre-dame-w-paryzu/
LOCATION:Galeria „Pod dachem nieba”\, Wojska Polskiego\, Ciechocinek
ATTACH;FMTTYPE=image/jpeg:https://ciechocinek.pl/wp-content/uploads/2025/12/galeria_budowakatedry.jpg
END:VEVENT
END:VCALENDAR