BEGIN:VCALENDAR
VERSION:2.0
PRODID:-//Ciechocinek.pl - ECPv6.15.12.2//NONSGML v1.0//EN
CALSCALE:GREGORIAN
METHOD:PUBLISH
X-WR-CALNAME:Ciechocinek.pl
X-ORIGINAL-URL:https://ciechocinek.pl
X-WR-CALDESC:Wydarzenia dla Ciechocinek.pl
REFRESH-INTERVAL;VALUE=DURATION:PT1H
X-Robots-Tag:noindex
X-PUBLISHED-TTL:PT1H
BEGIN:VTIMEZONE
TZID:Europe/Warsaw
BEGIN:DAYLIGHT
TZOFFSETFROM:+0100
TZOFFSETTO:+0200
TZNAME:CEST
DTSTART:20240331T010000
END:DAYLIGHT
BEGIN:STANDARD
TZOFFSETFROM:+0200
TZOFFSETTO:+0100
TZNAME:CET
DTSTART:20241027T010000
END:STANDARD
BEGIN:DAYLIGHT
TZOFFSETFROM:+0100
TZOFFSETTO:+0200
TZNAME:CEST
DTSTART:20250330T010000
END:DAYLIGHT
BEGIN:STANDARD
TZOFFSETFROM:+0200
TZOFFSETTO:+0100
TZNAME:CET
DTSTART:20251026T010000
END:STANDARD
BEGIN:DAYLIGHT
TZOFFSETFROM:+0100
TZOFFSETTO:+0200
TZNAME:CEST
DTSTART:20260329T010000
END:DAYLIGHT
BEGIN:STANDARD
TZOFFSETFROM:+0200
TZOFFSETTO:+0100
TZNAME:CET
DTSTART:20261025T010000
END:STANDARD
END:VTIMEZONE
BEGIN:VEVENT
DTSTART;TZID=Europe/Warsaw:20251220T093000
DTEND;TZID=Europe/Warsaw:20251220T130000
DTSTAMP:20260424T110450
CREATED:20251208T132230Z
LAST-MODIFIED:20251208T132230Z
UID:2096-1766223000-1766235600@ciechocinek.pl
SUMMARY:XIII Otwarty Świąteczny Turniej Trójek Siatkarskich
DESCRIPTION:W sobotę\, 20 grudnia w Hali Sportowej odbędzie się XIII Otwarty Świąteczny Turniej Trójek Siatkarskich. Początek gier od godziny 10.00 – weryfikacja od godziny 9.30. Uwaga! Ilość miejsc ograniczona! \nOsoby niepełnoletnie muszą posiadać zgodę rodziców/opiekunów prawnych na udział w turnieju. \nSerdecznie zapraszamy do udziału! \nDo pobrania:\nKARTA ZGŁOSZENIOWA\nZGODA RODZICA\nREGULAMIN \n  \nZgłoszone drużyny
URL:https://ciechocinek.pl/wydarzenie/xiii-otwarty-swiateczny-turniej-trojek-siatkarskich/
LOCATION:Hala sportowa OSiR\, Lipnowska 11c\, Ciechocinek
ATTACH;FMTTYPE=image/jpeg:https://ciechocinek.pl/wp-content/uploads/2025/12/turniej_osir1225.jpg
END:VEVENT
END:VCALENDAR