BEGIN:VCALENDAR
VERSION:2.0
PRODID:-//Ciechocinek.pl - ECPv6.15.12.2//NONSGML v1.0//EN
CALSCALE:GREGORIAN
METHOD:PUBLISH
X-WR-CALNAME:Ciechocinek.pl
X-ORIGINAL-URL:https://ciechocinek.pl
X-WR-CALDESC:Wydarzenia dla Ciechocinek.pl
REFRESH-INTERVAL;VALUE=DURATION:PT1H
X-Robots-Tag:noindex
X-PUBLISHED-TTL:PT1H
BEGIN:VTIMEZONE
TZID:Europe/Warsaw
BEGIN:DAYLIGHT
TZOFFSETFROM:+0100
TZOFFSETTO:+0200
TZNAME:CEST
DTSTART:20240331T010000
END:DAYLIGHT
BEGIN:STANDARD
TZOFFSETFROM:+0200
TZOFFSETTO:+0100
TZNAME:CET
DTSTART:20241027T010000
END:STANDARD
BEGIN:DAYLIGHT
TZOFFSETFROM:+0100
TZOFFSETTO:+0200
TZNAME:CEST
DTSTART:20250330T010000
END:DAYLIGHT
BEGIN:STANDARD
TZOFFSETFROM:+0200
TZOFFSETTO:+0100
TZNAME:CET
DTSTART:20251026T010000
END:STANDARD
BEGIN:DAYLIGHT
TZOFFSETFROM:+0100
TZOFFSETTO:+0200
TZNAME:CEST
DTSTART:20260329T010000
END:DAYLIGHT
BEGIN:STANDARD
TZOFFSETFROM:+0200
TZOFFSETTO:+0100
TZNAME:CET
DTSTART:20261025T010000
END:STANDARD
END:VTIMEZONE
BEGIN:VEVENT
DTSTART;TZID=Europe/Warsaw:20251213T100000
DTEND;TZID=Europe/Warsaw:20251213T100000
DTSTAMP:20260424T105251
CREATED:20251210T070822Z
LAST-MODIFIED:20251210T070822Z
UID:2121-1765620000-1765620000@ciechocinek.pl
SUMMARY:XIV Halowy Zakładowy Turniej Piłki Nożnej „OSiR CUP 2025”
DESCRIPTION:XIV edycja Halowego Zakładowego Turnieju Piłki Nożnej „OSiR Cup 2025”.\nZgłoszeń należy dokonywać na druku zgłoszenia do dnia 11 grudnia wyłącznie na e-mail manager.osir@ciechocinek.pl. \nO kwalifikacji do turnieju decyduje kolejność zgłoszeń.\nUwaga! Ilość miejsc ograniczona.\nZapraszamy do udziału! \nDo pobrania:\nREGULAMIN TURNIEJU\n​​​KARTA ZGŁOSZENIOWA \nSpis drużyn
URL:https://ciechocinek.pl/wydarzenie/xiv-halowy-zakladowy-turniej-pilki-noznej-osir-cup-2025/
LOCATION:Hala sportowa OSiR\, Lipnowska 11c\, Ciechocinek
ATTACH;FMTTYPE=image/jpeg:https://ciechocinek.pl/wp-content/uploads/2025/12/osircup2025.jpg
END:VEVENT
END:VCALENDAR